BEGIN:VCALENDAR
VERSION:2.0
PRODID:-//wp-events-plugin.com//7.2.2.1//EN
TZID:Europe/Paris
X-WR-TIMEZONE:Europe/Paris
BEGIN:VEVENT
UID:207@montagnerando-fonsegrives.com
DTSTART;TZID=Europe/Paris;VALUE=DATE:20210627
DTEND;TZID=Europe/Paris;VALUE=DATE:20210628
DTSTAMP:20210616T104118Z
URL:https://montagnerando-fonsegrives.com/events/dimanche-27-juin-sommet-d
 e-cournudere-pic-de-paloumere/
SUMMARY:Dimanche 27 Juin : Sommet de Cournudère & Pic de Paloumère
DESCRIPTION:Sommet de Cournudère &amp\; Pic de Paloumère\nCarte IGN 1947 
 OT\n\nTélécharger le topo - les traces GPX des Marcheurs  et des Randon
 neurs \n\n\n\nPrésentation de la randonnée\nPoint de départ :\n\n\n\n\
 n\n\n\nParking à la Fontaine de l’Ours (1175m) : Depuis Arbas (31160)\
 , suivre la direction La Baderque\, d’abord par la D13A sur 3.7km\, puis
  à droite la D13B sur 600m. Au hameau de La Baderque\, emprunter la peti
 te route qui monte à gauche. La suivre sur 4.3km\, jusqu’à son termi
 nus au parking de la Fontaine de l’ours.\n\n\n\n\n\nDistance : 106 kms 
 – 1h30.\n\n\nCoordonnées GPS : 42.96454 N/ 0.87892 E Alt. : 1175m.\nTRA
 JET EN COVOITURAGE\nLe Parcours :\n\n 	Marcheurs : Boucle par le col des P
 assagers (1478m) et le sommet de Cornudère (1561m)\nDistance : 10\,1 kms\
 , dénivelé : 550 m\, Durée : 4h 30\n 	Randonneurs : Boucle identique 
 aux marcheurs avec en plus un A/R jusqu'au Pic de Paloumère (1606m)\nDist
 ance 12\,4 kms\, dénivelé : 700 m\, Durée : 5h00\n\n\n\n\nL’accès
  au Parking de la Fontaine de l’Ours se fait à partir d’Arbas\, par 
 une petite route forestière (D13a puis D13b).\nUne randonnée se situe 
 dans la partie calcaire des Pyrénées avec ses sources\, ses gouffres\,
  ses roches tourmentées\, bref\, un paysage surprenant.\nMagnifique pano
 rama tout au long des crêtes de Cournudère\n\nMétéo : 08 99 71 02 31
 . Secours : 112\nMerci de confirmer votre inscription avant Vendredi 25 Ju
 in 14h00\n
ATTACH;FMTTYPE=image/jpeg:https://montagnerando-fonsegrives.com/wp-content
 /uploads/2021/05/PicPaloumère.jpeg
CATEGORIES:Rando
END:VEVENT
BEGIN:VTIMEZONE
TZID:Europe/Paris
X-LIC-LOCATION:Europe/Paris
BEGIN:DAYLIGHT
DTSTART:20210328T030000
TZOFFSETFROM:+0100
TZOFFSETTO:+0200
TZNAME:CEST
END:DAYLIGHT
END:VTIMEZONE
END:VCALENDAR