BEGIN:VCALENDAR
VERSION:2.0
PRODID:-//wp-events-plugin.com//7.2.2.1//EN
TZID:Europe/Paris
X-WR-TIMEZONE:Europe/Paris
BEGIN:VEVENT
UID:227@montagnerando-fonsegrives.com
DTSTART;TZID=Europe/Paris;VALUE=DATE:20220327
DTEND;TZID=Europe/Paris;VALUE=DATE:20220328
DTSTAMP:20220319T111210Z
URL:https://montagnerando-fonsegrives.com/events/dimanche-27-mars-2022-ran
 do-commune-au-massif-de-la-clape/
SUMMARY:Dimanche 27 Mars 2022 : Rando commune au Massif de la Clape
DESCRIPTION:La Clape - Les Auzils et le plateau de Figuières\nCarte IGN 25
 46 OT\n\nTélécharger le topo - les traces GPX des Marcheurs et Randonneu
 rs \n\n\n\n\n\n\n\n\n\n\n\n\nPrésentation de la randonnée\n\n\n\n\n\nPo
 int de départ :\nDepuis l'A9\, sortie 37\, direction Gruissan.\n2km avant
  Gruissan D32\, au rond-point de Faline (en bordure de l'étang de Gruiss
 an)\, tourner à gauche sur la D332\, direction Narbonne Plage.\n500m plu
 s loin\, emprunter la route à gauche\, en direction de N.D. des Auzils.\
 nSe garer tout de suite à droite sur un grand espace de parking Distance
  : 163 kms – 2h10 (voiture 1h40)\nCoordonnées GPS : 43.12442 N / 3.095
 33 E\n\nDEPART EN BUS A 7H DEPUIS LE PARKING COMPLEXE PATRICK PEPI\n\n\n\n
 \n\n\n\n\n\n\n\n\n\n\n\n\nLe Parcours :\n\n 	Marcheurs/Randonneurs :\nBouc
 les Chapelle des Auzils\, Garrigue de Figuières\, le Castela\nDistance :
  15 kms\, Dénivelé : 305 m\, Temps : 4h30\n\n\n\n\n\n\n\n\n\n\n\n\n\n\
 n\n\n\n\n\n\n\n\n\n\n\n\n\n\n\n\n\n\n\n\n\n\n\n\n\n\n\n\n\n\n\n\nRandonne
 ́e commune pour les deux groupes sans grande difficulté\, nous piqueniq
 uerons tous ensemble dans la Garrigue de Figuières.\n\nLes parfums si par
 ticuliers de la garrigue\, la présence de la mer si proche\, les vastes 
 étendues de pins éparpillés parmi les rochers\, le bruit de cigales 
 l'été... autant de choses qui font du massif de la Clape un lieu magiq
 ue que tout amoureux de la nature devrait apprécier.\nC'est le circuit p
 édestre le plus long de Gruissan. Vous découvrirez une faune et une fl
 ore d’exception : lavande\, thym\, romarin\, fenouil\, et nombreux chard
 ons\, la Centaurée de la Clape unique au monde et qui ne fleurit qu’un
 e fois. Vous trouverez un peu d’ombre à l’abri des oliviers\, cypre
 ̀s\, figuiers\, pins d’Alep\, chênes verts ou encore chênes Kermè
 s.\nLe massif de la Clape compte quelques 8 000 espèces d’animaux inve
 rtébrés dont 3 criquets uniques au monde ! Vous pourrez y croiser auss
 i des renards\, lapins\, blaireaux\, écureuils. Et si vous n’avez pas 
 oublié vos jumelles\, vous pourrez observer tous les oiseaux qui nichent
  : faucons crécerelle\, perdrix rouge\, moineaux\, pinson\, chardonneret
 s\, ortolan.\n\n\n\n\n\n\n\n\n\n\n\n\n\n\n\nMerci de confirmer votre inscr
 iption avant Mercredi 23 Mars 19h00\n\n\n\n\nMétéo : 08 99 71 02 11 - Se
 cours : 112\n\n\n
ATTACH;FMTTYPE=image/jpeg:https://montagnerando-fonsegrives.com/wp-content
 /uploads/2021/10/Chateau-Roquefixade.png
END:VEVENT
BEGIN:VTIMEZONE
TZID:Europe/Paris
X-LIC-LOCATION:Europe/Paris
BEGIN:STANDARD
DTSTART:20211031T020000
TZOFFSETFROM:+0200
TZOFFSETTO:+0100
TZNAME:CET
END:STANDARD
BEGIN:DAYLIGHT
DTSTART:20220327T030000
TZOFFSETFROM:+0100
TZOFFSETTO:+0200
TZNAME:CEST
END:DAYLIGHT
END:VTIMEZONE
END:VCALENDAR