BEGIN:VCALENDAR
VERSION:2.0
PRODID:-//wp-events-plugin.com//7.2.2.1//EN
TZID:Europe/Paris
X-WR-TIMEZONE:Europe/Paris
BEGIN:VEVENT
UID:77@montagnerando-fonsegrives.com
DTSTART;TZID=Europe/Paris;VALUE=DATE:20161127
DTEND;TZID=Europe/Paris;VALUE=DATE:20161128
DTSTAMP:20171203T130257Z
URL:https://montagnerando-fonsegrives.com/events/dimanche-27-novembre-puyc
 elci-larroque/
SUMMARY:Dimanche 27 Novembre = Larroque-Puycelci [Tarn]
DESCRIPTION:LARROQUE &amp\; PUYCELSI : deux beaux villages du Tarn\nDépart
  de Larroque (81140): petit parking à l’entrée sur la route D964 en ve
 nant de Gaillac Larroque est situé à 90 kms de Fonsegrives. Coordonnées
  GPS : N 44.002851°/ E 1.691239°- alt. 140m.\nLes parcours :  . Boucle 
 pour Marcheurs 1 : 10 kms – 430 m Temps : 4h30 (circuit bleu) \n . Boucl
 e commune pour Marcheurs 2/ Randonneurs :  Distance : 15\,3 kms\, dénive
 lé : 500 m (circuit rouge) Temps : 5h\nCette randonnée nous permet de d
 écouvrir deux des plus beaux villages du Tarn. Le village forteresse de P
 UYCELCI saura vous surprendre par de belles vues sur la vallée de la Vèr
 e\, son église Saint Corneille (voûtes peintes en bleu\, beau retable ba
 roque en bois peint).\nUne visite s’impose ainsi qu’une halte sur la p
 lace ombragée. A Puycelci se trouve le verger conservatoire Régional d
 ’espèces fruitières anciennes et de vignes : près de 500 variétés d
 e pommiers y sont préservées. Larroque est un village blotti au pied d
 ’une falaise percée de grottes naturelles de calcaire ocre rouge. De be
 lles maisons à colombages groupées autour d’une charmante église d’
 architecture typiquement régionale ainsi que ses châteaux d’époque XV
 I et XVIII siècle.\nEn chemin\, nous ferons un détour pour retrouver la 
 Chapelle Notre Dame des bois logé dans un vallon calme. Nous longerons é
 galement les ruines d’une ancienne verrerie.\n[sgpx gpx="/wp-content/upl
 oads/gpx/gps larroque et Puycelsi.gpx"]\npour télécharger le topo\, cliq
 uez ici\nLes directives d’animation des Groupes de niveau seront donnée
 s au départ de la randonnée. Rendez-vous comme d’habitude à 6h.45 sur
  le parking du Complexe P.-Pépi pour un départ effectif à 7 h.\nChoisis
 sez-bien votre Groupe de niveau\, en fonction de la carte et du topo dispo
 nibles sur le site internet de la Section\, de la météo prévue et de vo
 tre état de forme. Consultez et suivez les conseils et recommandations de
  notre site Internet pour vous y préparer.\nMunissez-vous des équipement
 s individuels minimum suivants\, exigés pour participer en sécurité à 
 cette randonnée pédestre Chaussures de randonnée adaptées\, les « bas
 kets » ne sont pas autorisés\, Vêtements et équipements de protection 
 contre le froid\, le vent\, la pluie et le soleil\, Eau en quantité suffi
 sante\, repas de déjeuner et vivres de course. Les papiers à emballer da
 ns une pochette étanche : Papiers d’identité\, Carte Vitale\, Carte Mu
 tuelle.\nN’oubliez pas le cas échéant\, vos médicaments personnels\, 
 bâtons\, lunettes…éventuellement votre téléphone mobile\, appareil p
 hoto… et en tous cas\, votre bonne humeur !\nEN CAS D’ANNULATION Veuil
 lez contacter : Par messagerie aux adresses suivantes: – Bernard PORCHER
 ON : porcheron.bernard@wanadoo.fr – Jacques VIGUIÉ : viguiejacques@oran
 ge.fr\nPar téléphone auprès de : – Bernard PORCHERON : 05.61.80.13.22
  ou 06.81.59.25.69 – Jacques VIGUIÉ : 06.70.72.94.76
CATEGORIES:Rando
LOCATION:LARROQUE & PUYCELSI\, PUYCELSI\, LARROQUE \, France
GEO:43.992753;1.7098914000000604
X-APPLE-STRUCTURED-LOCATION;VALUE=URI;X-ADDRESS=PUYCELSI\, LARROQUE \, Fran
 ce;X-APPLE-RADIUS=100;X-TITLE=LARROQUE & PUYCELSI:geo:43.992753,1.70989140
 00000604
END:VEVENT
BEGIN:VTIMEZONE
TZID:Europe/Paris
X-LIC-LOCATION:Europe/Paris
BEGIN:STANDARD
DTSTART:20161030T020000
TZOFFSETFROM:+0200
TZOFFSETTO:+0100
TZNAME:CET
END:STANDARD
END:VTIMEZONE
END:VCALENDAR