BEGIN:VCALENDAR
VERSION:2.0
PRODID:-//wp-events-plugin.com//7.2.2.1//EN
TZID:Europe/Paris
X-WR-TIMEZONE:Europe/Paris
BEGIN:VEVENT
UID:174@montagnerando-fonsegrives.com
DTSTART;TZID=Europe/Paris;VALUE=DATE:20191027
DTEND;TZID=Europe/Paris;VALUE=DATE:20191028
DTSTAMP:20191024T215000Z
URL:https://montagnerando-fonsegrives.com/events/dimanche-27-octobre-rando
 nnee-pedestre-le-tarbesou-et-les-etangs-de-rabassoles-ariege/
SUMMARY:Dimanche 27 Octobre 2019 = Randonnée Pédestre (Le Tarbesou et les
  Étangs de Rabassoles) [Ariège]
DESCRIPTION:Du Col de Pailhères\, une classique mais avec les couleurs de 
 l’automne et des lacs au charme indéniable : quand on y a goûté\, on
  y revient !\nTabésou – Etangs bleu\, noir &amp\; Rabassoles Carte IGN
  : 2248 ET\nPour télécharger le topo en pdf - la trace GPX des Marcheurs
  et  la trace GPX des Randonneurs\nPrésentation de la randonnée : Poi
 nt de départ : Parking après la station de Ascou-Pailhères (parking du 
 col de Pailhères). Se trouve à 143 kms de Toulouse\, 2H00 de route : Pam
 iers\, Ax-les-thermes et station Ascou-Pailhères Coordonnées GPS : 42.73
 305 N/ 1.98719 E\nLe Parcours : • Boucle Randonneurs 1: Depuis le col de
  Pailhères\, le Tabesou\, les étangs Bleu et Noir Distance : 11\,4 kms\,
  dénivelé : 680 m\, Temps : 4h 45. • Boucle Randonneurs 2 : Depuis le 
 col de Pailhères\, le Tabesou\, les étangs Bleu et Noir\, le col de l’
 Egue et étang de Rabassoles. Distance 14\,4 kms\, dénivelé : 910 m\, Te
 mps : 6h 25.\nPar sa position en retrait de la chaîne\, le Pic du Tarbés
 ou vous offre malgré une altitude modeste (2364m) un très joli panorama 
 sur les sommets ariègeois\, de l’Aude et des Pyrénées Orientales : Ca
 nigou\, Carlit\, Montcalm\, Valier\, St Barthélemy et\, en prime ….. la
  Mer !!\nL’itinéraire en boucle est l’occasion de faire un joli parco
 urs de crête et\, au retour\, on trouve un univers accueillant\, au bord 
 de l’eau\, à l’ombre des pins.\nCette randonnée ne présente aucune 
 difficulté particuliaire.\nMétéo : 08 99 71 02 09. Secours : 112.\nCONS
 EILS PRATIQUES\nMunissez-vous des équipements individuels minimum suivant
 s\, exigés pour participer en sécurité à cette randonnée :\n– Chaus
 sures de randonnée adaptées\, les « baskets » ne sont pas autorisés\,
 \n– Vêtements et équipements de protection\, bonnet\, gants\, bâtons\
 , guêtres ..\n– Eau en quantité suffisante\, repas de déjeuner et viv
 res de course\,\nN’oubliez pas\, vos médicaments personnels\, éventuel
 lement votre téléphone mobile\, appareil photo… et surtout n’oubliez
  pas votre crème solaire\, vos lunettes… et votre bonne humeur !\nEN CA
 S D’ANNULATION\nVeuillez contacter :\nPar messagerie aux adresses suivan
 tes:\n– Bernard PORCHERON : porcheron.bernard@wanadoo.fr – Jacques VIG
 UIÉ : viguiejacques@orange.fr\nPar téléphone auprès de :\n– Bernard 
 PORCHERON : 05.61.80.13.22 ou 06.81.59.25.69\n– Jacques VIGUIÉ : 06.70.
 72.94.76
CATEGORIES:Rando
END:VEVENT
BEGIN:VTIMEZONE
TZID:Europe/Paris
X-LIC-LOCATION:Europe/Paris
BEGIN:DAYLIGHT
DTSTART:20190331T030000
TZOFFSETFROM:+0100
TZOFFSETTO:+0200
TZNAME:CEST
END:DAYLIGHT
BEGIN:STANDARD
DTSTART:20191027T020000
TZOFFSETFROM:+0200
TZOFFSETTO:+0100
TZNAME:CET
END:STANDARD
END:VTIMEZONE
END:VCALENDAR