BEGIN:VCALENDAR
VERSION:2.0
PRODID:-//wp-events-plugin.com//7.2.2.1//EN
TZID:Europe/Paris
X-WR-TIMEZONE:Europe/Paris
BEGIN:VEVENT
UID:142@montagnerando-fonsegrives.com
DTSTART;TZID=Europe/Paris;VALUE=DATE:20190428
DTEND;TZID=Europe/Paris;VALUE=DATE:20190429
DTSTAMP:20190420T093431Z
URL:https://montagnerando-fonsegrives.com/events/dimanche-28-avril-2019-ra
 ndonnee-pedestre/
SUMMARY:Dimanche 28 avril 2019 = Randonnée Pédestre - Le Château de Cas 
 à Espinas
DESCRIPTION:Le Château de Cas à Espinas - Carte IGN : 2140 &amp\; 2240 OT
 \nPour télécharger le topo\, cliquez ici\n[sgpx gpx="/wp-content/uploads
 /gpx/Château de Cas.gpx"]\nPrésentation de la randonnée : Point de dép
 art : Parking au château de Cas. Se trouve à 110 kms de Toulouse : autor
 oute Montauban\, Caussade puis Septfonds\, 1H50 de route. Coordonnées GPS
  : LAT/LNG 44\,199341 N / 1\,771754 E\nLes différents parcours : • Bouc
 le Randonneurs : Distance : 15\,8 kms\, dénivelé : 400 m\, Durée : 5h 2
 0.\nDans cette belle région du Rouergue\, proche de Saint-Antonin\, Caylu
 s\, la vallée de la Bonnette\, nus parcourons sentiers et vallons\, au gr
 é des moulins\, des belles bâtisses rouergates\, chapelle et lavoir. Ran
 donnée campagnarde qui\, partant de la vallée de la Bonnette\, vous cond
 uit au village d’Espinas. Le circuit intègre une partie du sentier bali
 sé « Les sources de Caudesaygues ». Une panoplie de chemins agricoles\,
  petites routes de campagne et sentiers bien couverts de végétation.\nL
 ’église de Saint-Martin de Cas appartient au groupe des églises pré-r
 omanes à chevet plat et angles arrondis datés des alentours de l’an mi
 lle (voir également l’église Saint-Julien de Carrendier). L’église 
 était au départ une chapelle castrale appartenant au château. Le châte
 au de Cas a été le siège d’une co-seigneurie dont les Templiers aurai
 ent eu une part.\nLe château\, en ruines il y a une quarantaine d’anné
 es\, a été parfaitement restauré par ses propriétaires actuels et se v
 isite (http://www.chateaudecas.fr ). En 1532 la chapelle des Hospitaliers 
 de Saint-Jean-de-Jérusalem (probablement été édifiée au 13ième sièc
 le) fut agrandie et devient l’église paroissiale d’Epinas\, dédiée 
 à Saint-Cyr et SainteJulitte. L’église paroissiale Saint-Barthélémy 
 de Caudes-Aygue (Caylus) avec son clocher mur appartenait au XIIIe siècle
  à un prieuré et fut reconstruit au XVe siècle\nMétéo : 08 99 71 02 8
 2. Secours : 112.\nCONSEILS PRATIQUES\n Munissez-vous des équipements ind
 ividuels minimum suivants\, exigés pour participer en sécurité à cette
  randonnée :\n– Chaussures de randonnée adaptées\, les « baskets » 
 ne sont pas autorisés\,\n– Vêtements et équipements de protection\, b
 onnet\, gants\, bâtons\, guêtres ..\n– Eau en quantité suffisante\, r
 epas de déjeuner et vivres de course\,\nN’oubliez pas\, vos médicament
 s personnels\, éventuellement votre téléphone mobile\, appareil photo
 … et surtout n’oubliez pas votre crème solaire\, vos lunettes… et v
 otre bonne humeur !\nEN CAS D’ANNULATION\nVeuillez contacter :\nPar mess
 agerie aux adresses suivantes:\n– Bernard PORCHERON : porcheron.bernard@
 wanadoo.fr – Jacques VIGUIÉ : viguiejacques@orange.fr – Sibottier Dom
 inique : dominiquesibottier@orange.fr\nPar téléphone auprès de :\n– B
 ernard PORCHERON : 05.61.80.13.22 ou 06.81.59.25.69\n– Jacques VIGUIÉ :
  06.70.72.94.76
CATEGORIES:Rando
END:VEVENT
BEGIN:VTIMEZONE
TZID:Europe/Paris
X-LIC-LOCATION:Europe/Paris
BEGIN:DAYLIGHT
DTSTART:20190331T030000
TZOFFSETFROM:+0100
TZOFFSETTO:+0200
TZNAME:CEST
END:DAYLIGHT
END:VTIMEZONE
END:VCALENDAR