BEGIN:VCALENDAR
VERSION:2.0
PRODID:-//wp-events-plugin.com//7.2.2.1//EN
TZID:Europe/Paris
X-WR-TIMEZONE:Europe/Paris
BEGIN:VEVENT
UID:203@montagnerando-fonsegrives.com
DTSTART;TZID=Europe/Paris;VALUE=DATE:20210328
DTEND;TZID=Europe/Paris;VALUE=DATE:20210329
DTSTAMP:20210321T173943Z
URL:https://montagnerando-fonsegrives.com/events/dimanche-28-mars-lautrec-
 les-deux-chateaux/
SUMMARY:Dimanche 28 Mars : LAUTREC - Les deux châteaux
DESCRIPTION:LAUTREC : Les deux châteaux\nCarte IGN 2343 ET\n\nTélécharge
 r le topo - les traces GPX des Marcheurs et Randonneurs \n\n\n\nPrésenta
 tion de la randonnée\nPoint de départ :\n\n\nParking à LAUTREC\nDistan
 ce : 64 kms – 1h00\n\nCoordonnées GPS : 43.70761 N/ 2.13771 E Alt. : 29
 2m.\n\n\nSORTIE EN CO-VOITURAGE - RENDEZ-VOUS SUR LE PARKING A LAUTREC A 9
 H\nEn arrivant à Lautrec\, au rond-point\, prendre à gauche direction Ro
 quecourbe et le parking se trouve juste là.\nLe Parcours :\n\n 	Boucle co
 mmune Marcheurs/Randonneurs :\nDistance 14\,8 kms\, dénivelé : 365 m\,
  Durée : 5h 00\n\n\n\n\nLAUTREC est\, d’après l’IGN\, le centre ge
 ́ographique de la région d’Occitanie.\nFondée en 940\, la cité me
 ́diévale compta jusqu’à 4000 habitants (aujourd’hui 1700 habitant
 s).\nOn dit que Charlemagne s’arrêta en ce lieu et fut à l’origine
  de l’église primitive « Saint Rémy » aujourd’hui disparue.\nAup
 aravant des tribus celtiques y séjournèrent puis les romains.\nIl ne r
 este malheureusement que peu de choses de l’enceinte de fortification...
 ......\nCette randonnée vous emmènera dans les environs du village de 
 Lautrec. Tout au long du parcours\, de magnifiques points de vue sur la ci
 té médiévale et ses environs ou sur la Montagne Noire s’offriront 
 à vous. Vous passerez par les châteaux de Malvignol et Brametourte.\nC
 e circuit est partagé entre sentiers en terre et chemins goudronnés. V
 ous croiserez plusieurs\nroutes départementales où il faudra être pr
 udent. Les chemins sont\, pour la plupart\, dégagés et donc soumis aux
  intempéries. Le circuit est bien balisé (il y a des panneaux indicati
 fs) au début et à la fin du parcours. Entre les deux châteaux\, il n
 'y a quasiment pas de balisage\nLa cité médiévale est à proximite
 ́ du rond-point (à visiter si vous avez l'occasion). Les deux château
 x de Malvignol et Brametourte sont à voir. Vous passerez à côté de
  la base de loisirs Aquaval qui dispose d'espaces aquatiques (ouverts uniq
 uement de juin à début septembre)\, d'une grande aire de jeux\, mini-g
 olf\, parcours de BMX\, lacs\, pêche\,\n\n.\n\nMétéo : 08 99 71 02 81.
  Secours : 112\nMerci de confirmer votre inscription avant Vendredi 26 Mar
 s 18h00\n
ATTACH;FMTTYPE=image/jpeg:https://montagnerando-fonsegrives.com/wp-content
 /uploads/2021/03/lautrec-place.jpeg
CATEGORIES:Rando
END:VEVENT
BEGIN:VTIMEZONE
TZID:Europe/Paris
X-LIC-LOCATION:Europe/Paris
BEGIN:STANDARD
DTSTART:20201025T020000
TZOFFSETFROM:+0200
TZOFFSETTO:+0100
TZNAME:CET
END:STANDARD
BEGIN:DAYLIGHT
DTSTART:20210328T030000
TZOFFSETFROM:+0100
TZOFFSETTO:+0200
TZNAME:CEST
END:DAYLIGHT
END:VTIMEZONE
END:VCALENDAR