BEGIN:VCALENDAR
VERSION:2.0
PRODID:-//wp-events-plugin.com//7.2.2.1//EN
TZID:Europe/Paris
X-WR-TIMEZONE:Europe/Paris
BEGIN:VEVENT
UID:83@montagnerando-fonsegrives.com
DTSTART;TZID=Europe/Paris;VALUE=DATE:20170122
DTEND;TZID=Europe/Paris;VALUE=DATE:20170123
DTSTAMP:20171203T093841Z
URL:https://montagnerando-fonsegrives.com/events/dimanche-29-janvier-2017-
 sortie-a-la-neige-rando-raquette/
SUMMARY:Dimanche 29 Janvier 2017 - Sortie à la neige - Rando Raquette - Ca
 p des Arjoulents
DESCRIPTION:Cap des Arjoulents Carte IGN : 1848 OT \nPrésentation de la ra
 ndonnée en raquettes : Point de départ : Se garer dans le village d’O
 ô\, à proximité des tennis (alt.942m) Compter deux heures de voiture po
 ur rejoindre le point de départ (158 kms) Coordonnées GPS : 42.796735 N 
 / 0\,507883 E\nLes différents parcours : \n. Boucle : Randonnée de 11 km
 s\, dénivelé : 680 m Temps : 5h00\nJolie randonnée en raquettes au dép
 art du village d'Oô. 11km de plaisir\, entre forêt\, cabanes et point de
  vue. Circuit peu fréquenté\, à faire si vous cherchez le calme et prof
 iter de la nature. Avec un peu de chance\, vous croiserez quelques biches 
 venues comme nous profiter de ce silence incomparable. Nous rencontrerons 
 les granges de Labach et irons jusqu’au col de Coume. Un raccourci est p
 ossible : après les granges de Labach\, partir au sud-ouest en direction 
 du col de la Coume. (gain de 2 bons kms). Le circuit est repéré n°72. I
 l y a un raccourci depuis les granges de Labach pour rejoindre directement
  le col de la Coume. Vous n'oublierez pas de refermer derrière vous les d
 ifférents portails se trouvant sur votre itinéraire. Météo : 08 99 71 
 02 31. Secours : 112.\n[sgpx gpx="/wp-content/uploads/gpx/Cap des Arjoulen
 ts.gpx"]\nPour télécharger le topo\, cliquez ici\nCONSEILS PRATIQUES\nMu
 nissez-vous des équipements individuels minimum suivants\, exigés pour p
 articiper en sécurité à cette randonnée raquettes :\n- Chaussures de r
 andonnée adaptées\, les « baskets » ne sont pas autorisés\,\n- Vêtem
 ents et équipements de protection\, bonnet\, gants\, bâtons\, guêtres .
 .\n- Eau en quantité suffisante\, repas de déjeuner et vivres de course\
 ,\nN’oubliez pas\, vos médicaments personnels\, éventuellement votre t
 éléphone mobile\, appareil photo… et surtout n’oubliez pas votre cr
 ème solaire\, vos lunettes... et votre bonne humeur !\nEN CAS D'ANNULATIO
 N\nVeuillez contacter :\nPar messagerie aux adresses suivantes:\n- Bernard
  PORCHERON : porcheron.bernard@wanadoo.fr - Jacques VIGUIÉ : viguiejacque
 s@orange.fr\nPar téléphone auprès de :\n- Bernard PORCHERON : 05.61.80.
 13.22 ou 06.81.59.25.69\n- Jacques VIGUIÉ : 06.70.72.94.76
CATEGORIES:Rando
END:VEVENT
BEGIN:VTIMEZONE
TZID:Europe/Paris
X-LIC-LOCATION:Europe/Paris
BEGIN:STANDARD
DTSTART:20161030T020000
TZOFFSETFROM:+0200
TZOFFSETTO:+0100
TZNAME:CET
END:STANDARD
END:VTIMEZONE
END:VCALENDAR