BEGIN:VCALENDAR
VERSION:2.0
PRODID:-//wp-events-plugin.com//7.2.2.1//EN
TZID:Europe/Paris
X-WR-TIMEZONE:Europe/Paris
BEGIN:VEVENT
UID:258@montagnerando-fonsegrives.com
DTSTART;TZID=Europe/Paris;VALUE=DATE:20230129
DTEND;TZID=Europe/Paris;VALUE=DATE:20230130
DTSTAMP:20230125T222952Z
URL:https://montagnerando-fonsegrives.com/events/dimanche-29-janvier-sorti
 e-raquettes/
SUMMARY:Dimanche 29 Janvier  : Sortie Raquettes - Cap des Arjoulents
DESCRIPTION:Sortie en Raquettes - Cap des Arjoulents\n\n\n\n\n\n\n\n\n\n\n\
 n\n\n\n\n\n\n\nNous vous proposons une randonnée en raquettes.\n\nLes par
 ticipants sont conviés à se présenter à 7h15\, complexe Patrick Pépi 
 à Quint Fonsegrives\, pour un départ du bus à 7h30 précises.\nPour ceu
 x ne disposant pas de raquettes\, le Club loue des raquettes pour la journ
 ée ( 2€ - merci d'amener de la monnaie) .\n\nLa destination retenue pou
 r ce Dimanche est le Cap des Arjoulents .\n\nVous pouvez télécharger le 
 topo ainsi que la trace GPX\n\n\n\n\n\n\n\n\n\n\n\n\n\n\n\nLa météo anno
 nce du beau temps mais les températures resteront très froides .... couv
 rez vous !
ATTACH;FMTTYPE=image/jpeg:https://montagnerando-fonsegrives.com/wp-content
 /uploads/2022/01/20220130_1217132.jpg
CATEGORIES:Rando
END:VEVENT
BEGIN:VTIMEZONE
TZID:Europe/Paris
X-LIC-LOCATION:Europe/Paris
BEGIN:STANDARD
DTSTART:20221030T020000
TZOFFSETFROM:+0200
TZOFFSETTO:+0100
TZNAME:CET
END:STANDARD
END:VTIMEZONE
END:VCALENDAR