BEGIN:VCALENDAR
VERSION:2.0
PRODID:-//wp-events-plugin.com//7.2.2.1//EN
TZID:Europe/Paris
X-WR-TIMEZONE:Europe/Paris
BEGIN:VEVENT
UID:106@montagnerando-fonsegrives.com
DTSTART;TZID=Europe/Paris;VALUE=DATE:20171029
DTEND;TZID=Europe/Paris;VALUE=DATE:20171030
DTSTAMP:20171120T175907Z
URL:https://montagnerando-fonsegrives.com/events/dimanche-29-octobre-rando
 nnee-pedestre-le-picou-depuis-ganac/
SUMMARY:Dimanche 29 Octobre = Randonnée pédestre – Le Picou depuis Gana
 c
DESCRIPTION:Col du Calmil (1109 m) – Le Picou (1602 m) - Carte IGN : 2047
  ET &amp\; 2147 ET \nATTENTION\, dimanche\, PASSAGE à l’HEURE d’HIVER
  = il faut retarder pendules et montres d’ UNE HEURE.\nPrésentation de
  la randonnée en raquettes :  Point de départ : Se garer sur la place d
 u village de Ganac.\nCompter 1 h 15 de voiture pour rejoindre le point de 
 départ (92 kms).\n\nCoordonnées GPS : 42.947300 N / 1\,563360 E Les diff
 érents parcours :\n•  Marcheurs : Aller/Retour Col de Cabril : 7\,3 km
 s\, dénivelé : 540 m\, Durée : 4h00 Ou cabane de l’homme Mort (1399 m
 ) : 10\,7 kms\, dénivelé : 835 m\, Durée : 5h45\n• Randonneurs : Bouc
 le de 17\,4 kms\, Dénivelé : 1070 m. Durée : 7h Objectif : Le Picou (16
 02 m).\n\nCette fiche propose trois randonnées de difficultés croissante
 s\, empruntant le même itinéraire au départ : • Un aller/retour afin 
 d’atteindre le Col de CALMIL (1109 m) • Un aller/retour afin d’attei
 ndre la cabane de l’Homme Mort (1399 m) en poursuivant le chemin après 
 le Col de CALMIL (1109 m) • Une boucle\, avec un parcours commun aux deu
 x premières randonnées\, puis continuez vers le Picou (1602 m). Le retou
 r vers Ganac se fait en empruntant le chemin de Barguillère. Cette derni
 ère randonnée demande une condition physique sans faille. Il faut envisa
 ger 7h de marche. On peut se retreindre en s’arrêtant sur la crête au 
 lieu où nous retrouvons le GR de Pays du Tour de Barguil (fléchage jaune
  et rouge) puis revenir par le chemin de montée. La vue s’ouvre dès qu
 e l’on atteint le Cap du Calmil. Le panorama au sommet du Picou offre un
 e vue sur le Massif des Trois Seigneurs\, les sommets de la Haute-Ariège 
 et le Massif de Tabe.\nBalisage de la randonnée : Rouge et Jaune.\nMété
 o : 08 99 71 02 09. Mairie de Ganac : 05 61 65 36 36 (ouverture Mardi au J
 eudi 9-12h\, Vendredi 15-19h) Secours :  112.\n\n\n\n[sgpx gpx="/wp-conte
 nt/uploads/gpx/le Picou.gpx"]\nPour télécharger le topo : [ddownload id=
 "7788" text="Carte/Topo" style="link"]\n\n\n\nCONSEILS PRATIQUES\nMunissez
 -vous des équipements individuels minimum suivants\, exigés pour partici
 per en sécurité à cette randonnée raquettes :\n– Chaussures de rando
 nnée adaptées\, les « baskets » ne sont pas autorisés\,\n– Vêtemen
 ts et équipements de protection\, bonnet\, gants\, bâtons\, guêtres ..\
 n– Eau en quantité suffisante\, repas de déjeuner et vivres de course\
 ,\nN’oubliez pas\, vos médicaments personnels\, éventuellement votre t
 éléphone mobile\, appareil photo… et surtout n’oubliez pas votre cr
 ème solaire\, vos lunettes… et votre bonne humeur !\nEN CAS D’ANNULAT
 ION\nVeuillez contacter :\nPar messagerie aux adresses suivantes:\n– Ber
 nard PORCHERON : porcheron.bernard@wanadoo.fr – Jacques VIGUIÉ : viguie
 jacques@orange.fr\nPar téléphone auprès de :\n– Bernard PORCHERON : 0
 5.61.80.13.22 ou 06.81.59.25.69\n– Jacques VIGUIÉ : 06.70.72.94.76
CATEGORIES:Rando
END:VEVENT
BEGIN:VTIMEZONE
TZID:Europe/Paris
X-LIC-LOCATION:Europe/Paris
BEGIN:DAYLIGHT
DTSTART:20170326T030000
TZOFFSETFROM:+0100
TZOFFSETTO:+0200
TZNAME:CEST
END:DAYLIGHT
BEGIN:STANDARD
DTSTART:20171029T020000
TZOFFSETFROM:+0200
TZOFFSETTO:+0100
TZNAME:CET
END:STANDARD
END:VTIMEZONE
END:VCALENDAR