BEGIN:VCALENDAR
VERSION:2.0
PRODID:-//wp-events-plugin.com//7.2.2.1//EN
TZID:Europe/Paris
X-WR-TIMEZONE:Europe/Paris
BEGIN:VEVENT
UID:135@montagnerando-fonsegrives.com
DTSTART;TZID=Europe/Paris;VALUE=DATE:20190203
DTEND;TZID=Europe/Paris;VALUE=DATE:20190204
DTSTAMP:20190131T172228Z
URL:https://montagnerando-fonsegrives.com/events/dimanche-3-fevrier-2019-r
 andonnee-raquettes/
SUMMARY:Dimanche 3 février 2019 = Randonnée Pédestre/Raquette - Bédeilh
 ac – Col de Carlong/Roc de Peyrenègre
DESCRIPTION:Bédeilhac – Col de Carlong/Roc de Peyrenègre . Carte IGN : 
 2147 ET\nPour télécharger le topo \, cliquez ici\nPrésentation de la 
 randonnée : Point de départ : Parking à la sortie du village de Bédeil
 hac. Compter 1h15 de voiture pour rejoindre le point de départ (110 kms) 
 : Foix puis D618 à l’entrée de Tarascon. Altitude de départ 652 m. Co
 ordonnées GPS : Lat. – Long. 42\,873350 – 1\,563870\nLes différents 
 parcours : • Boucle pour Marcheurs : Col de Carlong (1177 m). Aller-Reto
 ur de 10\,5 kms\, dénivelé : 560 m (circuit en bleu) • Boucle pour Ran
 donneurs : Roc de Peyrenègre (1363 m). Aller-Retour de 12 kms\, dénivel
 é : 780 m (circuit rouge)\nSortie possible en raquettes. Point de départ
  de la randonnée dans le village de Bédeilhac. Se diriger vers la Roche 
 ronde via le col de d’Ijou (813 m). Laisser sur votre gauche\, le chemin
  allant vers Rabat les Trois Seigneurs\, afin d’atteindre le Carlong via
  le col du Planet de Canarilles (1109 m). Pour le retour nous réalisons u
 ne boucle par le Col de Carlong (1177 m) puis rejoindre notre itinéraire 
 de l’aller. Pour les plus courageux\, au Col de Carlong prendre la direc
 tion Sud-Ouest vers le Roc de Peyrenègre (1363 m). Pour le retour\, prend
 re direction Est sur 500 m environ puis rejoindre le col de Carlong (direc
 tion Nord).\nMétéo : 08 99 71 02 09. Office de tourisme : 05 61 05 20 04
 . Secours Ariège : 112. PGHM : 05 61 64 22 58 (Salvignac les ormaux)\n[sg
 px gpx="/wp-content/uploads/gpx/Bédeilhac Carlong.gpx"]\nCONSEILS PRATIQU
 ES\n Munissez-vous des équipements individuels minimum suivants\, exigés
  pour participer en sécurité à cette randonnée :\n– Chaussures de ra
 ndonnée adaptées\, les « baskets » ne sont pas autorisés\,\n– Vête
 ments et équipements de protection\, bonnet\, gants\, bâtons\, guêtres 
 ..\n– Eau en quantité suffisante\, repas de déjeuner et vivres de cour
 se\,\nN’oubliez pas\, vos médicaments personnels\, éventuellement votr
 e téléphone mobile\, appareil photo… et surtout n’oubliez pas votre 
 crème solaire\, vos lunettes… et votre bonne humeur !\nEN CAS D’ANNUL
 ATION\nVeuillez contacter :\nPar messagerie aux adresses suivantes:\n– B
 ernard PORCHERON : porcheron.bernard@wanadoo.fr – Jacques VIGUIÉ : vigu
 iejacques@orange.fr\nPar téléphone auprès de :\n– Bernard PORCHERON :
  05.61.80.13.22 ou 06.81.59.25.69\n– Jacques VIGUIÉ : 06.70.72.94.76
CATEGORIES:Rando
END:VEVENT
BEGIN:VTIMEZONE
TZID:Europe/Paris
X-LIC-LOCATION:Europe/Paris
BEGIN:STANDARD
DTSTART:20181028T020000
TZOFFSETFROM:+0200
TZOFFSETTO:+0100
TZNAME:CET
END:STANDARD
END:VTIMEZONE
END:VCALENDAR