BEGIN:VCALENDAR
VERSION:2.0
PRODID:-//wp-events-plugin.com//7.2.2.1//EN
TZID:Europe/Paris
X-WR-TIMEZONE:Europe/Paris
BEGIN:VEVENT
UID:221@montagnerando-fonsegrives.com
DTSTART;TZID=Europe/Paris;VALUE=DATE:20220130
DTEND;TZID=Europe/Paris;VALUE=DATE:20220131
DTSTAMP:20220126T200210Z
URL:https://montagnerando-fonsegrives.com/events/dimanche-30-janvier-rando
 nnee-en-raquettes/
SUMMARY:Dimanche 30 Janvier - Randonnée en raquettes
DESCRIPTION:Nous vous proposons une randonnée en raquettes le Dimanche 30 
 Janvier 2022.\n\nDestination Ascou-Pailhières pour une montée vers le Ta
 rbezou\nVous trouverez ici le topo et la trace GPX\n\nLes participants son
 t conviés à se présenter à 7h15\, complexe Patrick Pépi à Quint Fons
 egrives\, pour un départ du bus à 7h30 (horaire d'hiver)\nLe club mets 
 à disposition un service de location de raquettes pour 2€ : les raquett
 es sont à retirer avant le départ du bus au local technique (à l'arriè
 re du Complexe Patrice Pépi).\nLa destination exacte dépend de l’ennei
 gement et des conditions de circulation\; à défaut de neige\, une randon
 née pédestre sera prévue. A titre indicatif\, ce pourrait être: Cap de
 s Salières depuis St Paul d’Oueil\, Le Pech depuis le Col du Portet-d
 ’Aspet\, Pic de Fourcat depuis le Col de Marmare\, le Tarbezou depuis le
  Col de Pailhères\, Plateau de Beille\, Col du Chioula.\nLa destination r
 etenue sera communiquée sur la page d'accueil du site le Jeudi 27 janvier
 .\nOuverture des Inscriptions le Samedi 22 Janvier.
ATTACH;FMTTYPE=image/jpeg:https://montagnerando-fonsegrives.com/wp-content
 /uploads/2016/04/Dimanche-21-fevrier-2016-Col-du-Chioula-prise-de-vue-Domi
 nique-Sibottier4.jpg
END:VEVENT
BEGIN:VTIMEZONE
TZID:Europe/Paris
X-LIC-LOCATION:Europe/Paris
BEGIN:STANDARD
DTSTART:20211031T020000
TZOFFSETFROM:+0200
TZOFFSETTO:+0100
TZNAME:CET
END:STANDARD
END:VTIMEZONE
END:VCALENDAR