BEGIN:VCALENDAR
VERSION:2.0
PRODID:-//wp-events-plugin.com//7.2.2.1//EN
TZID:Europe/Paris
X-WR-TIMEZONE:Europe/Paris
BEGIN:VEVENT
UID:75@montagnerando-fonsegrives.com
DTSTART;TZID=Europe/Paris;VALUE=DATE:20161030
DTEND;TZID=Europe/Paris;VALUE=DATE:20161031
DTSTAMP:20171204T092957Z
URL:https://montagnerando-fonsegrives.com/events/dimanche-30-octobre-puy-l
 ouby-depuis-portet-de-luchon/
SUMMARY:Dimanche 30 Octobre = Lac d’Oô – Col d’Espingo.  Cartes IGN 
 : 1848 OT
DESCRIPTION:Lac d’Oô – Col d’Espingo.  Cartes IGN : 1848 OT \nPré
 sentation de la randonnée :  Point de départ : Parking  des Granges d
 ’Astau (1139m). Coordonnées GPS : 42 76421 N/0° 50 1894 E Depuis Fonse
 grives 165 kms (2h15) : Luchon\, direction Col du Peyresourde jusqu’à C
 astillon de Larboust puis Oô (D76)\nLes différents parcours : . Aller-Re
 tour pour Baladeurs : Randonnée jusqu’au lac d’Oô A/R de 6kms – 50
 0m Temps : 3h\n . Aller-Retour pour Marcheurs : Ascension jusqu’au Col d
 ’Espingo (1967m) en passant par le lac d’Oô (1504m) A/R de  11kms\, 
 dénivelé :  900m Temps : 4h45\n . Aller-Retour pour Randonneurs : Même
  parcours que les Marcheurs avec poursuite jusqu’à la 1ère passerelle 
 (2099m) A/R de  15kms\, dénivelé : 1000m Temps : 6h.\nCet itinéraire j
 ouit d’une grande variété de paysages. A partir des granges d’Astau\
 , la progression se déroule au rythme des points forts comme la cascade d
 ’Oô et le cirque d’Espingo. C’est face à ce dernier que se perche 
 le refuge qui porte le même nom. Dans cette construction en pierre\, on r
 etrouve une très belle ambiance avec une grande salle à manger : refuge 
 ouvert d’avril à fin septembre. Le lac d’Oo et sa grande cascade haut
 e de 275m est une des attractions pour les marcheurs. La montée au lac se
  fait sur le sentier du GR10 et dure environ 1h15 (Aller). Le sentier ensu
 ite se prolonge au- delà du lac vers le lac d’Espingo et de Saussat\, p
 uis ensuite beaucoup plus haut vers le lac et refuge du Portillon (Haut li
 eu de balade Pyrénéenne).\nMétéo : 08 99 71 02 31.   Office de touri
 sme : 05 61 79 21 21. \nSecours :  112. PRGN : 05 61 79 28 36\nLes inscri
 ptions s’effectuent impérativement avant 20 heures 30 le mercredi préc
 édant la sortie.\n[sgpx gpx="/wp-content/uploads/gpx/gps lac Oô.gpx"]\nP
 our télécharger le topo\, cliquez ici\nEN CAS D'ANNULATION\nVeuillez con
 tacter :\nPar messagerie aux adresses suivantes:\n- Bernard PORCHERON : po
 rcheron.bernard@wanadoo.fr - Jacques VIGUIÉ : viguiejacques@orange.fr\nPa
 r téléphone auprès de :\n- Bernard PORCHERON : 05.61.80.13.22 ou 06.81.
 59.25.69\n- Jacques VIGUIÉ : 06.70.72.94.76
CATEGORIES:Rando
LOCATION:Lac d’Oô – Col d’Espingo\, Granges d’Astau \, Granges d
 ’Astau \, France
GEO:42.7659105;0.499977299999955
X-APPLE-STRUCTURED-LOCATION;VALUE=URI;X-ADDRESS=Granges d’Astau \, Grange
 s d’Astau \, France;X-APPLE-RADIUS=100;X-TITLE=Lac d’Oô – Col d’E
 spingo:geo:42.7659105,0.499977299999955
END:VEVENT
BEGIN:VTIMEZONE
TZID:Europe/Paris
X-LIC-LOCATION:Europe/Paris
BEGIN:DAYLIGHT
DTSTART:20160327T030000
TZOFFSETFROM:+0100
TZOFFSETTO:+0200
TZNAME:CEST
END:DAYLIGHT
BEGIN:STANDARD
DTSTART:20161030T020000
TZOFFSETFROM:+0200
TZOFFSETTO:+0100
TZNAME:CET
END:STANDARD
END:VTIMEZONE
END:VCALENDAR