BEGIN:VCALENDAR
VERSION:2.0
PRODID:-//wp-events-plugin.com//7.2.2.1//EN
TZID:Europe/Paris
X-WR-TIMEZONE:Europe/Paris
BEGIN:VEVENT
UID:140@montagnerando-fonsegrives.com
DTSTART;TZID=Europe/Paris;VALUE=DATE:20190331
DTEND;TZID=Europe/Paris;VALUE=DATE:20190401
DTSTAMP:20190213T180351Z
URL:https://montagnerando-fonsegrives.com/events/dimanche-31-mars-2019-rep
 as-de-printemps/
SUMMARY:Dimanche 31 mars 2019 = REPAS de PRINTEMPS - MONESTIES - SALLES SUR
  CEROU
DESCRIPTION:DIMANCHE 31 Mars 2019 = REPAS de PRINTEMPS après une petite ra
 ndonnée le matin\nMONESTIES - SALLES SUR CEROU Carte IGN : 2241 E\nPuisqu
 e l’hiver neigeux n’a pas l’air de s’installer\, autant penser au 
 printemps !\nEn Pièce Jointe ici la feuille d’information sur le tradi
 tionnel Repas Champêtre…\nPour télécharger le topo\, cliquez ici\n[s
 gpx gpx="/wp-content/uploads/gpx/Monesties 9571246-track-12KMS.gpx"] ‎13
 ‎/‎02‎/‎2019 ‎18‎:‎55‎:‎52 16.5 KiB\n[sgpx gpx="/wp-cont
 ent/uploads/gpx/Monesties 9571194-track-14.6KMS.gpx"]\nPrésentation de la
  randonnée : Point de départ : Parking au camping : traverser le village
  en direction de salles puis à sa sortie prendre la 1ère à gauche « di
 rection gendarmerie » Se trouve à 103 kms de Toulouse\, 1H35 de route. C
 oordonnées GPS : 44\,07124 N \; 2\,09784 E\nLes différents parcours : 
 • Boucle pour Randonneurs 1 : Monestiés – bord du Cérou – colline 
 du tarn - Monestiés 12 kms\, dénivelé : 250 m\, Temps : 3h00 • Boucle
  pour Randonneurs 2 : Monestiés – Salles -Monestiés 14\,6 kms\, déniv
 elé : 280 m\, Temps : 3h30.\nRandonnée proposée en guise d’apéritif 
 : nous reprendrons le bus pour rejoindre le restaurant « La ferme de Bell
 evue ». Un parc animalier y est disponible (animaux nains de ferme). La r
 andonnée partira de Monestiés : un des plus beaux villages de la terre.\
 nLe village est ceinturé par les lices – promenades occupant l’emplac
 ement des fossés et des anciens remparts – les maisons se tassent autou
 r de l’église Saint-Pierre\, dans une boucle de la rivière\, sur le ch
 emin de Saint-Jacques-de Compostelle.\n• L'église Saint-Pierre : constr
 uite en 1550\, elle appartient au groupe des édifices gothiques méridion
 aux\, avec son chevet à cinq pans\, trois travées et cinq chapelles lat
 érales entre les contreforts. Elle a été édifiée sur les vestiges d
 ’une église romane qui aurait été détruite lors des guerres de Relig
 ion. Flanqué d’une tourelle\, le clocher abritant une cloche coulée en
  1599\, s’élève à 20 mètres. • Le musée Bajen-Vega : cette ancien
 ne maison seigneuriale\, siège de l'office de Tourisme\, abrite les œuvr
 es d'un couple de peintres espagnols ayant fui le franquisme. • La chape
 lle Saint-Jacques : cette ancienne chapelle de l'hôpital abrite une mise 
 au tombeau en pierre sculptée réalisée pour les évêques d'Albi au XVe
  siècle\, ainsi que le mobilier (stalles) qui ornaient la chapelle du ch
 âteau de Combefa. • Église Saint-Hippolyte. La plus longue randonnée 
 ira jusqu’ au bourg de Salles-sur-Cérou\, en suivant le bord du Cérou 
 (GR 36 ancienne voie ferrée). Salles abrite\, autour de son église\, 4 s
 tatues classées aux Monuments historiques\, représentant les 4 vertus. U
 n donjon\, quelques tours aujourd’hui encastrées dans des façades\, tr
 aces du château et de l’enceinte fortifiée\, témoignent encore de la 
 vie au temps du Moyen Age. L’autre parcours empruntera également le GR3
 6\, puis le quittera au niveau d’un ancien Moulin (Moulin de Gaudel) pou
 r rejoindre Monestiés.\nMétéo : 08 99 71 02 81. Secours : 112.\nCONSEIL
 S PRATIQUES\n Munissez-vous des équipements individuels minimum suivants\
 , exigés pour participer en sécurité à cette randonnée :\n– Chaussu
 res de randonnée adaptées\, les « baskets » ne sont pas autorisés\,\n
 – Vêtements et équipements de protection\, bonnet\, gants\, bâtons\, 
 guêtres ..\n– Eau en quantité suffisante\,\nN’oubliez pas\, vos méd
 icaments personnels\, éventuellement votre téléphone mobile\, appareil 
 photo… et surtout n’oubliez pas votre crème solaire\, vos lunettes…
  et votre bonne humeur !\nEN CAS D’ANNULATION\nVeuillez contacter :\nPar
  messagerie aux adresses suivantes:\n– Bernard PORCHERON : porcheron.ber
 nard@wanadoo.fr – Jacques VIGUIÉ : viguiejacques@orange.fr\nPar télép
 hone auprès de :\n– Bernard PORCHERON : 05.61.80.13.22 ou 06.81.59.25.6
 9\n– Jacques VIGUIÉ : 06.70.72.94.76
CATEGORIES:Rando
END:VEVENT
BEGIN:VTIMEZONE
TZID:Europe/Paris
X-LIC-LOCATION:Europe/Paris
BEGIN:STANDARD
DTSTART:20181028T020000
TZOFFSETFROM:+0200
TZOFFSETTO:+0100
TZNAME:CET
END:STANDARD
BEGIN:DAYLIGHT
DTSTART:20190331T030000
TZOFFSETFROM:+0100
TZOFFSETTO:+0200
TZNAME:CEST
END:DAYLIGHT
END:VTIMEZONE
END:VCALENDAR