BEGIN:VCALENDAR
VERSION:2.0
PRODID:-//wp-events-plugin.com//7.2.2.1//EN
TZID:Europe/Paris
X-WR-TIMEZONE:Europe/Paris
BEGIN:VEVENT
UID:262@montagnerando-fonsegrives.com
DTSTART;TZID=Europe/Paris;VALUE=DATE:20221204
DTEND;TZID=Europe/Paris;VALUE=DATE:20221205
DTSTAMP:20221203T143103Z
URL:https://montagnerando-fonsegrives.com/events/dimanche-4-decembre-2022-
 la-cascade-des-tufs/
SUMMARY:Dimanche 4 Décembre 2022 : La cascade des Tufs
DESCRIPTION:La vallée du Douctouyre - La Cascade des Tufs  \nCarte IGN 2
 147 ET\n\nTélécharger le topo - la trace GPX des Marcheurs et Randonneur
 s \n\n\n\n\n\n\n\n\n\n\n\n\nPrésentation de la randonnée\n\n\n\n\n\nPoi
 nt de départ :\n\n\nDirection PAMIERS puis Mirepoix : à mi-distance par
 tir à droite sur Lieurac. Parking place de la mairie.\nSe trouve à 93 
 kms de Toulouse\, 1H30 de route.\nCoordonnées GPS : LAT/LNG 42° 98105 N
  / 1°78972 E\n\nDEPART EN BUS A 7H DEPUIS LE PARKING COMPLEXE PATRICK PEP
 I\n\n\n\n\n\n\n\n\n\n\n\n\n\n\n\n\nLes Parcours :\n\n\n\n\n\n 	Boucle Marc
 heurs :Distance : 14\,8 kms\, dénivelé : 570 m\, Durée : 5h00\n 	Bou
 cle Randonneurs : Distance : 20 kms\, dénivelé : 850 m\, Durée : 6h3
 0\n\n\n\n\n\n\n\n\n\n\n\n\n\n\n\n\n\n\n\n\n\n\n\n\n\n\n\n\n\n\n\n\n\n\nLa 
 vallée de Douctouyre a formé au nord des coteaux du Plantaurel\, un pa
 ysage et une région sous l’emprise de l’activité agricole\, se de
 ́marquant ainsi du reste du Pays d’Olmes.\nSur le chemin entre Lieurac 
 et le Carla de roquefort\, vous traversez le domaine « De la Ville » ou
 ̀ se situent l’église et les vestiges de l’ancien château fort. L
 a famille « De la Ville » dont les derniers descendants étaient les he
 ́ritiers des seigneurs de Carla\, s’éteignit au 19èmesiècle.\nTra
 versé sur 1 km par le Douctouyre\, le domaine a été planté en verg
 er vers le milieu du siècle dernier. Vers les années 1970\, on ramassa
 it encore des pommes Golden Délicious\, des poires Crassanne et Doyenne
 ́ et des prunes.\nCette partie du pays d’Olmes est le contrefort de la 
 plaine céréalière de Myrepoix\nSur le chemin au départ de Lieurac 
 un petit panneau indique les Cascades véritable curiosité géologique
  formant un phénomène rare et très fragile : une tufière de 30 me
 ̀tres de hauteur. Cette dernière est formée de tuf\, calcaire pulvé
 rulent et friable.\nL’eau des sources de la Tarusse étant particuliè
 rement calcaire\, le tuf se dépose sur des mousses et les morceaux de bo
 is sous la forme d’une croûte\, la disparition de ces débris vége
 ́taux par fermentation donne en partie à la roche sa texture poreuse ra
 ppelant celle de l’éponge.\n\nLes personnes précédemment inscrites 
 à la rando de Lacaune sont automatiquement inscrits à cette rando .\nLes
  nouvelles inscriptions sont prises uniquement par réponse à l'email env
 oyé par le bureau et avant Samedi 3 Décembre 18h00 \n\n\n\nMétéo : 08 
 99 71 02 09. Secours : 112\n\n\n\n&nbsp\;
ATTACH;FMTTYPE=image/jpeg:https://montagnerando-fonsegrives.com/wp-content
 /uploads/2022/11/la-vallee-du-douctouyre.jpeg
CATEGORIES:Rando
END:VEVENT
BEGIN:VTIMEZONE
TZID:Europe/Paris
X-LIC-LOCATION:Europe/Paris
BEGIN:STANDARD
DTSTART:20221030T020000
TZOFFSETFROM:+0200
TZOFFSETTO:+0100
TZNAME:CET
END:STANDARD
END:VTIMEZONE
END:VCALENDAR