BEGIN:VCALENDAR
VERSION:2.0
PRODID:-//wp-events-plugin.com//7.2.2.1//EN
TZID:Europe/Paris
X-WR-TIMEZONE:Europe/Paris
BEGIN:VEVENT
UID:158@montagnerando-fonsegrives.com
DTSTART;TZID=Europe/Paris;VALUE=DATE:20181104
DTEND;TZID=Europe/Paris;VALUE=DATE:20181105
DTSTAMP:20181027T180157Z
URL:https://montagnerando-fonsegrives.com/events/dimanche-4-novembre-2018-
 randonnee-pedestre-cabane-de-piejau-et-tucol-de-pailleres/
SUMMARY:Dimanche 4 Novembre 2018 = Randonnée Pédestre [Pics d’Estibat e
 t de la Journalade]
DESCRIPTION:Pics d’Estibat et de la Journalade - Cartes IGN : 2047 ET\nCe
 tte fois-ci nous partirons de l’autre vallée (celle du Trein d’Ustou)
  pour une rando tranquille avec un dénivelé modeste (500 ou 700 m.) et t
 oujours de belles vue sur nos paysages pyrénéens dont on ne se lasse pas
  !\nPrésentation de la randonnée : Point de départ : Parking du Col de 
 Port (1250m) peu après l’auberge située au col Se trouve à 115 kms de
  Toulouse\, 1H45 de route. Coordonnées GPS : LAT/LNG 42\,899200 /1\,45272
 0\nLes différents parcours : • A/R avec boucle pour Randonneurs 1 &amp\
 ; 2 : Depuis col de Port (1250m)\, Pic d’Estibat (1663 m)\, Sommet des G
 riets (1621m)\, Col de l’Estagnou (1592m) et Pic de la Journalade (1945m
 ) 10\,7 kms\, dénivelé : 750 m (circuit rouge)\, Durée : 5h00\nPentes h
 erbeuses et joli cheminement sur une large crête constituent l'essentiel 
 de l'itinéraire jusqu'au pic de la Journalade. Au programme\, de beaux po
 ints de vue\, et quelques passages un peu délicats en approchant du somme
 t. Malgré son altitude modeste le pic de la Journalade offre\, du fait de
  sa position en retrait de la chaîne des Pyrénées\, un magnifique panor
 ama sur les hauts sommets. Météo : 08 99 71 02 09.\nPour télécharger l
 e topo\, cliquez ci\nSecours Ariège : 112. PGHN : 05 61 64 22 58. [sgpx g
 px="/wp-content/uploads/gpx/Pic Estibat Journalade Randonneur2.gpx"][sgpx 
 gpx="/wp-content/uploads/gpx/Pic Estibat Journalade Randonneur1gpx.gpx"]\n
 CONSEILS PRATIQUES\nMunissez-vous des équipements individuels minimum sui
 vants\, exigés pour participer en sécurité à cette randonnée :\n– C
 haussures de randonnée adaptées\, les « baskets » ne sont pas autoris
 és\,\n– Vêtements et équipements de protection\, bonnet\, gants\, bâ
 tons\, guêtres ..\n– Eau en quantité suffisante\, repas de déjeuner e
 t vivres de course\,\nN’oubliez pas\, vos médicaments personnels\, éve
 ntuellement votre téléphone mobile\, appareil photo… et surtout n’ou
 bliez pas votre crème solaire\, vos lunettes… et votre bonne humeur !\n
 EN CAS D’ANNULATION\nVeuillez contacter :\nPar messagerie aux adresses s
 uivantes:\n– Bernard PORCHERON : porcheron.bernard@wanadoo.fr – Jacque
 s VIGUIÉ : viguiejacques@orange.fr\nPar téléphone auprès de :\n– Ber
 nard PORCHERON : 05.61.80.13.22 ou 06.81.59.25.69\n– Jacques VIGUIÉ : 0
 6.70.72.94.76
CATEGORIES:Rando
END:VEVENT
BEGIN:VTIMEZONE
TZID:Europe/Paris
X-LIC-LOCATION:Europe/Paris
BEGIN:STANDARD
DTSTART:20181028T020000
TZOFFSETFROM:+0200
TZOFFSETTO:+0100
TZNAME:CET
END:STANDARD
END:VTIMEZONE
END:VCALENDAR