BEGIN:VCALENDAR
VERSION:2.0
PRODID:-//wp-events-plugin.com//7.2.2.1//EN
TZID:Europe/Paris
X-WR-TIMEZONE:Europe/Paris
BEGIN:VEVENT
UID:71@montagnerando-fonsegrives.com
DTSTART;TZID=Europe/Paris;VALUE=DATE:20160904
DTEND;TZID=Europe/Paris;VALUE=DATE:20160905
DTSTAMP:20171204T174148Z
URL:https://montagnerando-fonsegrives.com/events/dimanche-4-septembre/
SUMMARY:Dimanche 4 Septembre = Pic du Gar et Pic Saillant depuis le Col des
  Ares [Hte-Gnne]
DESCRIPTION:Pic du Gar &amp\; Pic Saillant depuis le col des Ares. Cartes I
 GN : 1847 OT\nPrésentation de la randonnée : Point de départ : Parking 
 Col des Ares (787 m) à 200m de l’Hostellerie du col des Ares (on passe 
 le col en venant par Frontignan). Coordonnées GPS : 42° 59’ 0.37’’
  N/0° 41’ 0.62’’ E\nLes différents parcours : Balisage jaune.\n. A
 ller-Retour pour Marcheurs : Ascension jusqu’à la cabane du Pic (1509m)
  en passant par le col d’Hô (938m). A/R de 10\,5 kms\, dénivelé : 850
  m Temps : 4h30\n. Aller-Retour pour Randonneurs : Pic du Gar (1756 m) &am
 p\; Pic Saillant (1785 m). 13 kms\, dénivelé : 1100 m (circuit rouge) Te
 mps : 5h 30\n\nLe pic du Gar domine de 1200 m Saint Béat la romaine et se
 s carrières de marbreblanc. Ce pic est l’un des plus beaux belvédères
  de la Haute Garonne. Panorama\nimmense vers le pic du Midi de Bigorre\, l
 e Massif de Néouvielle\, le Luchonnais et lemassif de La Maladetta.\nCirc
 uit à éviter par temps de brouillard et de pluie. Cette randonnée vous 
 permettra de découvrir une magnifique forêt de hêtres (présents dans 4
 0% de la forêt pyrénéenne entre 800 et 1500 m)\, avec\, en saison\, des
  tapis de fraises des bois ou de champignons. En chemin\, fontaines où se
  désaltérer\, bergerie du Pic de Gar.\nRandonnée sans grande difficult
 é : les 2er kms (col du Hô 938m) représentent une faible pente (150m) p
 uis pente moyenne jusqu’à la cabane du Pic de Gar (1530m)\, la\nmontée
  raide commence au-delà de celle-ci. Sur certaines cartes le Pic du Gar e
 t le Pic Saillant sont inversés : le Pic du Gar est bien le plus élevé.
 \nRemarque : Les chiffres apparaissant dans un cercle blanc correspondent 
 à la distance parcourue (en km) à partir du départ.\nMétéo : 08 99 71
  02 31. Office de tourisme : 05 61 79 21 21. Secours Hautes Pyrénées : 0
 5 61 89 31 31 ou 112. PRGN : 05 61 79 28 36.\nPour télécharger le topo\,
  cliquez ici\nEN CAS D'ANNULATION\nVeuillez contacter :\nPar messagerie au
 x adresses suivantes:\n- Bernard PORCHERON : porcheron.bernard@wanadoo.fr 
 - Jacques VIGUIÉ : viguiejacques@orange.fr\nPar téléphone auprès de :\
 n- Bernard PORCHERON : 05.61.80.13.22 ou 06.81.59.25.69\n- Jacques VIGUIÉ
  : 06.70.72.94.76
CATEGORIES:Rando
LOCATION:Pic du Gar et Pic Saillant depuis le Col des Ares [Hte-Gnne]\, Pic
  du Gar et Pic Saillant depuis le Col des Ares\, Pic du Gar et Pic Saillan
 t \, france\, haute garonne\, France
GEO:46.227638;2.213749000000007
X-APPLE-STRUCTURED-LOCATION;VALUE=URI;X-ADDRESS=Pic du Gar et Pic Saillant 
 depuis le Col des Ares\, Pic du Gar et Pic Saillant \, france\, haute garo
 nne\, France;X-APPLE-RADIUS=100;X-TITLE=Pic du Gar et Pic Saillant depuis 
 le Col des Ares [Hte-Gnne]:geo:46.227638,2.213749000000007
END:VEVENT
BEGIN:VTIMEZONE
TZID:Europe/Paris
X-LIC-LOCATION:Europe/Paris
BEGIN:DAYLIGHT
DTSTART:20160327T030000
TZOFFSETFROM:+0100
TZOFFSETTO:+0200
TZNAME:CEST
END:DAYLIGHT
END:VTIMEZONE
END:VCALENDAR