BEGIN:VCALENDAR
VERSION:2.0
PRODID:-//wp-events-plugin.com//7.2.2.1//EN
TZID:Europe/Paris
X-WR-TIMEZONE:Europe/Paris
BEGIN:VEVENT
UID:217@montagnerando-fonsegrives.com
DTSTART;TZID=Europe/Paris;VALUE=DATE:20211205
DTEND;TZID=Europe/Paris;VALUE=DATE:20211206
DTSTAMP:20211128T071153Z
URL:https://montagnerando-fonsegrives.com/events/dimanche-5-decembre-de-mo
 ntsegur-a-roquefixade/
SUMMARY:Dimanche 5 Décembre : De Montségur à Roquefixade
DESCRIPTION:De Montségur à Roquefixade \nCarte IGN 2247 OT\n\nTéléchar
 ger le topo - les traces GPX des Marcheurs et Randonneurs \n\n\n\n\n\n\n\
 n\n\n\n\n\nPrésentation de la randonnée\n\n\n\n\n\nPoint de départ :\nP
 rendre direction FOIX puis partir sur la gauche vers Montségur (parking 
 disponible).\nArrivée de notre randonnée se trouve à Roquefixade. Pa
 rking sur la D9 en bas de la forteresse.\n\nDistance : 116 kms – 1h50\nC
 oordonnées GPS Départ : 42\,86732N – 1\,83313E -Alt : 873 m.\nCoordonn
 ées GPS Arrivée : 42\,93422N – 1\,75841E -Alt : 766 m.\n\nDEPART EN BU
 S A 7H DEPUIS LE PARKING COMPLEXE PATRICK PEPI\n\n&nbsp\;\n\n\n\n\n\n\n\n\
 n\n\n\n\n\n\n\n\nLe Parcours :\n\n 	Marcheurs et Randonneurs : Randonnée
  de Montségur à Roquefixade\nDistance 16\,4 kms\, dénivelé : 600 m
 \, Temps : 6h 00.\n\n\n\n\n\n\n\n\n\n\n\n\n\n\n\n\n\n\n\n\n\n\n\n\n\n\n\n\
 n\n\n\n\n\n\n\n\n\n\n\n\n\n\n\n\n\n\n\nRandonnée commune pour les deux g
 roupes sans grande difficulté. C’est une randonnée qui change de not
 re habitude : pas de boucle ni aller/retour.\nBelles balades en perspectiv
 es dans des paysages pittoresques\, inoubliables entre la citadelle de Mon
 tségur et le château féodal de Roquefixade. Vous pourrez admirer de b
 elles forêts de conifères qui succèdent à celles de feuillus.\nEn 
 fin de parcours\, à partir des premières pentes qui vous mènent au c
 hâteau féodal vous allez découvrir la très belle vallée de Lespo
 nne avec en fond de tableau le village Leychert.\nJuché au sommet d’un
 e impressionnante falaise\, la forteresse de Roquefixade\, depuis le Xiè
 me siècle\, fait face à celle de Montségur.\nLongue de plus de 100m\
 , cette forteresse est divisée en deux enceintes :\n* En bas\, une cour 
 entourée de courtines suivant la ligne de crête.\n* En haut\, le châ
 teau proprement dit\, accessible par une tour-portière\, sorte de sas fe
 rmé par deux portes en chicane.\nAprès sa destruction ordonnée par L
 ouis XIII en 1632\, il ne reste de cette forteresse qu’un mur percé de
  deux fenêtres cintrées et une tour.\nAu XIII ème siècle\, une comm
 unauté de croyants cathares vivait dans le village et combattirent pour 
 la liberté de leur religion\, de leur famille et de leurs terres.\nEn ch
 emin\, nous traverserons le village de Montferrier qui connut un château
  avant le VIII ème\, détruit par les sarrasins à cette date. En 1162
  un nouveau château fût érigé puis de nouveau détruit lors de la
  destruction de Montségur.\n\n\n\n\n\n\n\n\n\n\n\n\n\n\n\n&nbsp\;\n\nMer
 ci de confirmer votre inscription avant Mercredi 1er Décembre 19h00\n\n\n
 \n\nMétéo : 08 99 71 02 09. Secours : 112\n\n\n
ATTACH;FMTTYPE=image/jpeg:https://montagnerando-fonsegrives.com/wp-content
 /uploads/2021/10/Chateau-Roquefixade.png
CATEGORIES:Rando
END:VEVENT
BEGIN:VTIMEZONE
TZID:Europe/Paris
X-LIC-LOCATION:Europe/Paris
BEGIN:STANDARD
DTSTART:20211031T020000
TZOFFSETFROM:+0200
TZOFFSETTO:+0100
TZNAME:CET
END:STANDARD
END:VTIMEZONE
END:VCALENDAR