BEGIN:VCALENDAR
VERSION:2.0
PRODID:-//wp-events-plugin.com//7.2.2.1//EN
TZID:Europe/Paris
X-WR-TIMEZONE:Europe/Paris
BEGIN:VEVENT
UID:237@montagnerando-fonsegrives.com
DTSTART;TZID=Europe/Paris;VALUE=DATE:20220709
DTEND;TZID=Europe/Paris;VALUE=DATE:20220710
DTSTAMP:20220708T210812Z
URL:https://montagnerando-fonsegrives.com/events/dimanche-5-decembre-templ
 ate/
SUMMARY:Week end du 9 et 10 Juillet : Montcalm et Pique d'Estats
DESCRIPTION:Pic du Montcalm et Pic d’Estats \nCarte IGN 2148 OT\n\nTélé
 charger le topo - les traces GPX des Randonneurs \n\n\n\n\n\n\n\n\n\n\n\n
 \nPrésentation de la randonnée\n\n\n\n\n\nPoint de départ :\n\n\n\n\n\n
 \nSe rendre à Tarascon-sur-Ariège puis direction Vicdessos\, continuer
  la route jusqu’au parking de « L’Artigue ».\nSe garer au Parking de
  l’Artigue \n\nLes différents parcours : Cette randonnée s’effectu
 e sur DEUX jours avec une nuit passée au refuge du Pinet\n\n 	Jour 1 : d
 u Parking de L’Artigue  au refuge du Pinet\n4\,7 kms\, dénivelé : +
 1037 m\, Temps : 3h00\n 	Jour 2 : du refuge du Pinet au Pic Montcalm via l
 e Pic d’Estats puis retour au parking en empruntant le même itinérai
 re\n13\,1 kms\, dénivelé : + 1012 m et - 2049 m Temps : 8h00\n\n\n\n\n
 \nDEPART EN CO-VOITURAGE A 7H DEPUIS LE PARKING COMPLEXE PATRICK PEPI\n\n\
 n\n\n\n\n\n\n\n\n\n\n\n\n\n\n\n\n\n\n\n\n\n\n\n\n\n\n\n\nCette randonnée
  de haute montagne permet de gravir les deux sommets emblématiques de la
  vallée de Vicdessos en Ariège : Le Pic d’Estats et de Montcalm.\nLe
  Montcalm (3077m) est le premier « 3000 » des Pyrénées en venant de 
 la Méditerranée et la Pique d’Estats (3143m) est le sommet de la Cat
 alogne ce qui explique leur caractère symbolique.\nLe refuge du Pinet es
 t ouvert du 1 juin au 30 septembre et possède 57 places\n\n\n\n\n\n\n\n\n
 \n\n\n\n\n\n\nPAS D'INSCRIPTION VIA LE SITE POUR CE WEEK-END\n\n\n\nMété
 o : 08 99 71 02 09. Secours : 112\n\n\n
ATTACH;FMTTYPE=image/jpeg:https://montagnerando-fonsegrives.com/wp-content
 /uploads/2022/06/massif_du_montcalm_ariege_pyrenees-Philippe-Garcelon.jpeg
END:VEVENT
BEGIN:VTIMEZONE
TZID:Europe/Paris
X-LIC-LOCATION:Europe/Paris
BEGIN:DAYLIGHT
DTSTART:20220327T030000
TZOFFSETFROM:+0100
TZOFFSETTO:+0200
TZNAME:CEST
END:DAYLIGHT
END:VTIMEZONE
END:VCALENDAR