BEGIN:VCALENDAR
VERSION:2.0
PRODID:-//wp-events-plugin.com//7.2.2.1//EN
TZID:Europe/Paris
X-WR-TIMEZONE:Europe/Paris
BEGIN:VEVENT
UID:67@montagnerando-fonsegrives.com
DTSTART;TZID=Europe/Paris;VALUE=DATE:20160605
DTEND;TZID=Europe/Paris;VALUE=DATE:20160606
DTSTAMP:20171205T123713Z
URL:https://montagnerando-fonsegrives.com/events/dimanche-5-juin-2016-vall
 ees-de-larboust-et-doueil-trois-boucles-depuis-garin/
SUMMARY:Dimanche 5 Juin 2016 - VALLÉES de LARBOUST et d’OUEIL trois bouc
 les depuis Garin
DESCRIPTION:VALLÉES de LARBOUST et d’OUEIL\nTrois boucles depuis Garin C
 arte IGN : n° 1848 OT - Bagnères-de-Luchon\nAu départ de Garin\, une be
 lle randonnée en balcon avec des vues magnifiques sur la crête frontièr
 e\, deux très belles vallées\, et quelques charmants villages de montagn
 e. Leurs églises romanes sont remarquables par leur architecture et surto
 ut par leurs fresques (Benqué-Dessus\, Saint-Aventin\, Cazeaux-de-Larbous
 t).\nNe pas manquer le point de vue de l’Homme de Pierre\, les cromlechs
  du Mail de Soupène (1.3 km AR) sur la Montagne d’Espiau.\nBoucle pour 
 Baladeurs (en vert sur la carte) = 11\,9 km / dénivelé cumulé = 530 m\n
  Boucle pour Marcheurs (en bleu sur la carte) = 14\,8 km / dénivelé cumu
 lé = 650 m\n Boucle pour Randonneurs (en rouge sur la carte) = 15\,6 km /
  dénivelé cumulé = 890 m.\n - Parcours commun depuis Garin : suivre la 
 route (D76) jusqu’à Poubeau.\nBaladeurs = continuer sur la route jusqu
 ’à Portet-de-Luchon\, suivre un sentier à droite puis le laisser\, des
 cendre et remonter jusqu’à Jurvielle\, laisser la route à droite et su
 ivre le petit sentier menant à Poubeau\, revenir à Cathervielle.\n- 2 op
 tions = - revenir à Garin par l’itinéraire de l’aller (ça ne fera q
 ue 7 km et 320 km de dénivelé cumulé ! )\n- continuer par un sentier qu
 i descend\, traverse la Neste puis la route\, et\, par la Moraine\, mène 
 à Oô \; traverser le village et prendre un sentier qui conduit à Cazeau
 x-de-Larboust puis retour à Garin.\nMarcheurs = continuer sur le chemin (
 GRP :Tour d’Oueil-Larboust)\, passer Labach puis quitter le GRP pour un 
 sentier presque plat en balcon \; laisser le sentier qui descend sur Garin
  et continuer vers la crête jusqu’à un enclos à bétail.\nAller plein
  Est pour rejoindre un large chemin jusqu’à Benqué \; traverser et con
 tinuer vers St-Aventin (où on peut arrêter la randonnée = 2.3 km en moi
 ns !).\nSuivre la route (- prudence : pas de trottoir !) un moment puis pr
 endre à droite un chemin qui ramène à Garin.\nRandonneurs = continuer s
 ur le GRP\, passer près de l’Homme de Pierre puis rattraper l’itinér
 aire des Marcheurs jusqu’à Garin.\nPour télécharger le topo\, cliquez
  ici\nCONSEILS PRATIQUES Munissez-vous des équipements individuels minim
 um suivants\, exigés pour participer en sécurité à cette randonnée : 
 – Chaussures de randonnée adaptées\, – Vêtements et équipements de
  protection – Eau en quantité suffisante\, repas de déjeuner et vivres
  de course.\nEN CAS D'ANNULATION\nVeuillez contacter :\nPar messagerie aux
  adresses suivantes:\n- Bernard PORCHERON : porcheron.bernard@wanadoo.fr -
  Jacques VIGUIÉ : viguiejacques@orange.fr\nPar téléphone auprès de :\n
 - Bernard PORCHERON : 05.61.80.13.22 ou 06.81.59.25.69\n- Jacques VIGUIÉ 
 : 06.70.72.94.76\n
CATEGORIES:Rando
LOCATION:VALLÉES de LARBOUST et d’OUEIL\, VALLÉES de LARBOUST et d’OU
 EIL\, Bagnères-de-Luchon\, France
GEO:42.788963;0.5929429999999911
X-APPLE-STRUCTURED-LOCATION;VALUE=URI;X-ADDRESS=VALLÉES de LARBOUST et d
 ’OUEIL\, Bagnères-de-Luchon\, France;X-APPLE-RADIUS=100;X-TITLE=VALLÉE
 S de LARBOUST et d’OUEIL:geo:42.788963,0.5929429999999911
END:VEVENT
BEGIN:VTIMEZONE
TZID:Europe/Paris
X-LIC-LOCATION:Europe/Paris
BEGIN:DAYLIGHT
DTSTART:20160327T030000
TZOFFSETFROM:+0100
TZOFFSETTO:+0200
TZNAME:CEST
END:DAYLIGHT
END:VTIMEZONE
END:VCALENDAR