BEGIN:VCALENDAR
VERSION:2.0
PRODID:-//wp-events-plugin.com//7.2.2.1//EN
TZID:Europe/Paris
X-WR-TIMEZONE:Europe/Paris
BEGIN:VEVENT
UID:206@montagnerando-fonsegrives.com
DTSTART;TZID=Europe/Paris;VALUE=DATE:20210606
DTEND;TZID=Europe/Paris;VALUE=DATE:20210607
DTSTAMP:20210529T193213Z
URL:https://montagnerando-fonsegrives.com/events/dimanche-6-juin-soum-de-b
 azillac-depuis-le-prat-dalbis/
SUMMARY:Dimanche 6 Juin : Soum de Bazillac depuis le Prat d'Albis
DESCRIPTION:Soum de Bazillac depuis le Prat d'Albis\nCarte IGN 2147 ET\n\nT
 élécharger le topo - les traces GPX des Marcheurs  et des Randonneurs 
 \n\n\n\nPrésentation de la randonnée\nPoint de départ :\n\nParking du P
 rat d'Albis (1175m) : dans Foix\, traverser l'Ariège vers le centre-ville
  (direction TARBES\, ST GIRONS).\nRemonter les allées puis au rond-point
  partir sur la gauche (D 21) (direction GANAC\, Prat d’Albis).\nPrendre 
 sur la gauche (D 421) direction Prat d’Albis.\nDistance : 100 kms – 1h
 30.\nCoordonnées GPS : 42.921339 N/ 1.581218 E Alt. : 1210m.\nTRAJET EN C
 OVOITURAGE\nLe Parcours :\n\n 	Marcheurs : Boucle menant au Pas de Bazilla
 c (1458m)\nDistance : 12\,9 kms\, dénivelé : 420 m\, Durée : 4h 45\n 
 	Randonneurs : Boucle identique aux marcheurs avec en plus un A/R à la Po
 inte du Picou (1629m)\nDistance 16\,6 kms\, dénivelé : 590 m\, Durée 
 : 6h00\n\n\n\n\nLe parking au Prat d’Albis\, à 1200M d’altitude\, qu
 e l’on rejoint par une petite route à partir de Foix.\nCette agréabl
 e randonnée en Ariège se situe juste au-dessus de Foix. Alternant sent
 iers balisés\,\nparcours en forêt et côtes ardues\, vous serez subju
 gués par le panorama. D’une part\, s’étendent sous vos yeux ébah
 is\, les plaines verdoyantes et chatoyantes ariégeoises et d’autre par
 t la majestueuse chaîne des Pyrénées.\n\nA noter : la fin de la rand
 onnée se fait au travers des champs\, entre fougères et herbage\, donc
  pensez à vous équiper en fonction.\nRandonnée à éviter par temp
 s de brouillard : elle comporte quelques passages peu matérialisés ou 
 hors sentier.\n\nMétéo : 08 99 71 02 09. Secours : 112\nMerci de confirm
 er votre inscription avant Vendredi 4 Juin 14h00\n
ATTACH;FMTTYPE=image/jpeg:https://montagnerando-fonsegrives.com/wp-content
 /uploads/2021/05/Soum-de-Bazillac.jpg
CATEGORIES:Rando
END:VEVENT
BEGIN:VTIMEZONE
TZID:Europe/Paris
X-LIC-LOCATION:Europe/Paris
BEGIN:DAYLIGHT
DTSTART:20210328T030000
TZOFFSETFROM:+0100
TZOFFSETTO:+0200
TZNAME:CEST
END:DAYLIGHT
END:VTIMEZONE
END:VCALENDAR