BEGIN:VCALENDAR
VERSION:2.0
PRODID:-//wp-events-plugin.com//7.2.2.1//EN
TZID:Europe/Paris
X-WR-TIMEZONE:Europe/Paris
BEGIN:VEVENT
UID:154@montagnerando-fonsegrives.com
DTSTART;TZID=Europe/Paris;VALUE=DATE:20181007
DTEND;TZID=Europe/Paris;VALUE=DATE:20181008
DTSTAMP:20180929T112222Z
URL:https://montagnerando-fonsegrives.com/events/dimanche-7-octobre-2018-r
 andonnee-pedestre-le-tarbesou-et-les-etangs-de-rabassoles/
SUMMARY:Dimanche 7 Octobre 2018 = Randonnée Pédestre [Le Tarbesou et les 
 Étangs de Rabassoles]
DESCRIPTION:Tabéso – Etangs bleu\, noir &amp\; Rabassoles - Carte IGN : 
 2428 ET\nDepuis le Col de Pailhères\, une classique mais avec les couleur
 s de l’automne et des lacs au charme indéniable : quand on y a goûté\
 , on y revient !\nPrésentation de la randonnée : Point de départ : Park
 ing après la station de Ascou-Pailhères (parking du col de Pailhères). 
 Se trouve à 143 kms de Toulouse\, 2H00 de route : Pamiers\, Ax-les-therme
 s et station Ascou-Pailhères. Coordonnées GPS : 42.73305 N/ 1.98719 E\nL
 e Parcours : • Boucle Randonneurs 1 : Depuis le col de Pailhères\, le T
 abesou\, les étangs Bleu et Noir Distance : 11\,4 kms\, dénivelé : 680 
 m\, Temps : 4h 45.\n• Boucle Randonneurs 2 : Depuis le col de Pailhères
 \, le Tabesou\, les étangs Bleu et Noir\, le col de l’Egue et étang de
  Rabassoles. Distance 14\,4 kms\, dénivelé : 910 m\, Temps : 6h 25.\nPar
  sa position en retrait de la chaîne\, le Pic du Tarbésou vous offre mal
 gré une altitude modeste (2364m) un très joli panorama sur les sommets a
 riègeois\, de l’Aude et des Pyrénées Orientales : Canigou\, Carlit\, 
 Montcalm\, Valier\, St Barthélemy et\, en prime ….. la Mer !!\nL’itin
 éraire en boucle est l’occasion de faire un joli parcours de crête et\
 , au retour\, on trouve un univers accueillant\, au bord de l’eau\, à l
 ’ombre des pins.\nCette randonnée ne présente aucune difficulté parti
 culaire.\nMétéo : 08 99 71 02 09. Secours : 112. [sgpx gpx="/wp-content/
 uploads/gpx/gpx tabesou Randonneurs 1.gpx"][sgpx gpx="/wp-content/uploads/
 gpx/gpx tabesou randonneurs 2.gpx"]\nPour télécharger le topo\, cliquez
  ici\nCONSEILS PRATIQUES\nMunissez-vous des équipements individuels mini
 mum suivants\, exigés pour participer en sécurité à cette randonnée :
 \n– Chaussures de randonnée adaptées\, les « baskets » ne sont pas a
 utorisés\,\n– Vêtements et équipements de protection\, bonnet\, gants
 \, bâtons\, guêtres ..\n– Eau en quantité suffisante\, repas de déje
 uner et vivres de course\,\nN’oubliez pas\, vos médicaments personnels\
 , éventuellement votre téléphone mobile\, appareil photo… et surtout 
 n’oubliez pas votre crème solaire\, vos lunettes… et votre bonne hume
 ur !\nEN CAS D’ANNULATION\nVeuillez contacter :\nPar messagerie aux adre
 sses suivantes:\n– Bernard PORCHERON : porcheron.bernard@wanadoo.fr – 
 Jacques VIGUIÉ : viguiejacques@orange.fr\nPar téléphone auprès de :\n
 – Bernard PORCHERON : 05.61.80.13.22 ou 06.81.59.25.69\n– Jacques VIGU
 IÉ : 06.70.72.94.76
CATEGORIES:Rando
END:VEVENT
BEGIN:VTIMEZONE
TZID:Europe/Paris
X-LIC-LOCATION:Europe/Paris
BEGIN:DAYLIGHT
DTSTART:20180325T030000
TZOFFSETFROM:+0100
TZOFFSETTO:+0200
TZNAME:CEST
END:DAYLIGHT
END:VTIMEZONE
END:VCALENDAR