BEGIN:VCALENDAR
VERSION:2.0
PRODID:-//wp-events-plugin.com//7.2.2.1//EN
TZID:Europe/Paris
X-WR-TIMEZONE:Europe/Paris
BEGIN:VEVENT
UID:118@montagnerando-fonsegrives.com
DTSTART;TZID=Europe/Paris;VALUE=DATE:20180408
DTEND;TZID=Europe/Paris;VALUE=DATE:20180409
DTSTAMP:20180327T111741Z
URL:https://montagnerando-fonsegrives.com/events/dimanche-8-avril-2018-rep
 as-printemps-montcuq/
SUMMARY:Dimanche 8 Avril 2018 = Repas Printemps MONTCUQ
DESCRIPTION:Montcuq – GR45 depuis Lauzerte &amp\; le chemin de Rouillac C
 arte IGN : 2136 ET \nPrésentation de la randonnée :  Point de départ 
 : Parking bus sur la D28 en face du chemin du Pontet à Montcuq. Montcuq s
 e trouve à 100 kms de Fonsegrives\, 1H50 + 15 mn (dépôt des randonneurs
 ) de route. Un arrêt est prévu à Auléry afin de déposer les randonneu
 rs  Coordonnées GPS : LAT/LNG  44\, 337160 /1\,211970 (Parking Montcuq)
 .\nLes différents parcours :  • Boucle pour Marcheurs : Sur le chemin 
 de Rouillac depuis Montcuq Distance : 8\,5 kms\, dénivelé : 200 m\, Dur
 ée : 2h 45 \n•  Randonneurs : D’Aulery rejoindre Berty par le GR 45 
 puis balisage jaune à partir de Rouillac pour rejoindre Montcuq. Distance
  : 14\,5 kms\, dénivelé : 350 m (circuit rouge)\, Durée : 3 h30. REMARQ
 UE : Si temps trop court\, continuer le GR 45 jusqu’à Montcuq (12\,5 km
 s). Météo : 08 99 71 02 46.   Office de tourisme : 05 65 22 94 04. (Ro
 camadour). Secours :  112.\nMontcuq (département du lot) se trouve en Qu
 ercy Blanc appelé également Bas-Quercy. Dans cette région\, on édifia 
 aux XIème et XIIème siècles un réseau exceptionnellement dense de chap
 elles et d’églises. Postes avancés de la lutte contre le paganisme et 
 la sorcellerie\, ces dernières tentaient d’éduquer les populations peu
  cultivées par des images religieuses simples. Loin d’être des lieux s
 ombres et dépouillés\, les sanctuaires romans affichaient alors des fres
 ques colorées.  En chemin\, sur le chemin de Saint-Jacques-de-Compostell
 e\, l’église de Saint-Pierre de Rouillac est célèbre pour ses peintur
 es mates sur fond clair à dominante ocre\, brun et jaune\, caractéristiq
 ues d’un courant artistique très représenté dans les églises du Sud-
 Ouest. On y voit une représentation du péché originel ainsi que plusieu
 rs scènes de la vie et de la passion du Christ. Deux randonnées sont pro
 posées à Montcuq : - Pour les Marcheurs\, depuis Montcuq\, le chemin de 
 Rouillac réalise une boucle au sud de Montcuq. Un balisage jaune indique 
 l’itinéraire\, mixé avec le balisage Rouge et Blanc du GR 45 jusqu’
 à Roux. - Pour les randonneurs\, le GR 45 les amène à Bercy depuis l’
 Auléry (proche de Lauzerte) puis à Montcuq en suivant le chemin de Rouil
 lac (balisage jaune). [sgpx gpx="/wp-content/uploads/gpx/Montcuq Marcheurs
 .gpx"][sgpx gpx="/wp-content/uploads/gpx/Randonneurs Montcuq.gpx"]\nPour t
 élécharger le topo\, cliquez ici\nPour télécharger le bulletin d'insc
 ription\, cliquez ici\n\n\nCONSEILS PRATIQUES\n Munissez-vous des équipe
 ments individuels minimum suivants\, exigés pour participer en sécurité
  à cette randonnée raquettes :\n– Chaussures de randonnée adaptées\,
  les « baskets » ne sont pas autorisés\,\n– Vêtements et équipement
 s de protection\, bonnet\, gants\, bâtons\, guêtres ..\n– Eau en quant
 ité suffisante\, repas de déjeuner et vivres de course\,\nN’oubliez pa
 s\, vos médicaments personnels\, éventuellement votre téléphone mobile
 \, appareil photo… et surtout n’oubliez pas votre crème solaire\, vos
  lunettes… et votre bonne humeur !\nEN CAS D’ANNULATION\nVeuillez cont
 acter :\nPar messagerie aux adresses suivantes:\n– Bernard PORCHERON : p
 orcheron.bernard@wanadoo.fr – Jacques VIGUIÉ : viguiejacques@orange.fr\
 nPar téléphone auprès de :\n– Bernard PORCHERON : 05.61.80.13.22 ou 0
 6.81.59.25.69\n– Jacques VIGUIÉ : 06.70.72.94.76\n
CATEGORIES:Rando
END:VEVENT
BEGIN:VTIMEZONE
TZID:Europe/Paris
X-LIC-LOCATION:Europe/Paris
BEGIN:DAYLIGHT
DTSTART:20180325T030000
TZOFFSETFROM:+0100
TZOFFSETTO:+0200
TZNAME:CEST
END:DAYLIGHT
END:VTIMEZONE
END:VCALENDAR