BEGIN:VCALENDAR
VERSION:2.0
PRODID:-//wp-events-plugin.com//7.2.2.1//EN
TZID:Europe/Paris
X-WR-TIMEZONE:Europe/Paris
BEGIN:VEVENT
UID:176@montagnerando-fonsegrives.com
DTSTART;TZID=Europe/Paris;VALUE=DATE:20191208
DTEND;TZID=Europe/Paris;VALUE=DATE:20191209
DTSTAMP:20191130T105706Z
URL:https://montagnerando-fonsegrives.com/events/dimanche-8-decembre-rando
 nnee-pedestre-le-bugarach-aude/
SUMMARY:Dimanche 8 Décembre 2019 = Randonnée Pédestre ( Le Bugarach) [Au
 de]
DESCRIPTION:Pech de Bugarach depuis Col de Linas - Carte IGN : 2347 OT\nDep
 uis le Col du Linas\, une montée douce jusqu’au célèbre Pic de Bugara
 ch (ses légendes\, son panorama) et\, pour revenir au lieu de départ\, s
 oit un aller-retour soit une boucle par « la fenêtre » pour découvrir 
 le spectaculaire versant est.\nPour télécharger le topo\, cliquez ici - 
 La carte GPX \, cliquez ici\nPrésentation de la randonnée : Point de dé
 part : Depuis Limoux\, direction Couiza par la D118. Dans Couiza\, directi
 on Bugarach par la D613\, puis D14.Traverser Bugarach et poursuivre sur la
  D14 pendant 4km. Se garer au col de Linas (Panneau et parking à droite d
 e la route) Se trouve à 140 kms de QUINT-FONSEGRIVES – 2h 15 mn. Coordo
 nnées GPS : LAT/LNG 42\,52073 / 1\,23014\nLe parcours : • Marcheurs A/R
  : Distance : 7\,8 kms\, dénivelé : 500 m\, Durée : 4h00 • Boucle Ran
 donneurs : Distance : 10\,5 kms\, dénivelé : 650 m\, Durée : 4h 30\nLa 
 boucle par le col de Péchines et l'arête Sud-Est du Bugarach offre une g
 rande variété de paysage. Très ludique\, la montée le long de l'arête
  est de difficulté modérée. Elle nécessite cependant d'avoir le pied s
 ûr et de ne pas être trop sujet au vertige. Sommet isolé au coeur de l'
 Aude\, le Pech de bugarach nous offre un somptueux panorama sur les montag
 nes ariègeoises. Le retour s'effectue en suivant la large crête puis en 
 descendant par la voie normale jusqu'au col de Linas. Passages un peu aér
 iens entre le col de Péchines et le sommet du Bugarach. Sur la dernière 
 partie de l'arête\, montée de quelques mètres dans un couloir raide éq
 uipé d'une corde et de bonnes prises pour les mains. Au retour\, roches g
 lissantes par temps humide. A ne pas faire par vent fort ou temps de pluie
 . Parcours de crête très ludique\, et de difficulté modérée. Points d
 e vue magnifique depuis le sommet de Bugarach. Variété des paysages. Pic
  du Canigou (2784m) 170.62º 38.88km Le Madres (2469m) 212.95º 28.07km Pi
 c de Tarbésou (2364m) 243.55º 37.28km Pic Saint-Barthélémy (2348m) 264
 .6º 49.93km. Météo : 08 99 71 02 11. Secours : 112.\nCONSEILS PRATIQUES
 \nMunissez-vous des équipements individuels minimum suivants\, exigés po
 ur participer en sécurité à cette randonnée :\n– Chaussures de rando
 nnée adaptées\, les « baskets » ne sont pas autorisés\,\n– Vêtemen
 ts et équipements de protection\, bonnet\, gants\, bâtons\, guêtres ..\
 n– Eau en quantité suffisante\, repas de déjeuner et vivres de course\
 ,\nN’oubliez pas\, vos médicaments personnels\, éventuellement votre t
 éléphone mobile\, appareil photo… et surtout n’oubliez pas votre cr
 ème solaire\, vos lunettes… et votre bonne humeur !\nEN CAS D’ANNULAT
 ION\nVeuillez contacter :\nPar messagerie aux adresses suivantes:\n– Ber
 nard PORCHERON : porcheron.bernard@wanadoo.fr – Jacques VIGUIÉ : viguie
 jacques@orange.fr\nPar téléphone auprès de :\n– Bernard PORCHERON : 0
 5.61.80.13.22 ou 06.81.59.25.69\n– Jacques VIGUIÉ : 06.70.72.94.76
CATEGORIES:Rando
END:VEVENT
BEGIN:VTIMEZONE
TZID:Europe/Paris
X-LIC-LOCATION:Europe/Paris
BEGIN:STANDARD
DTSTART:20191027T020000
TZOFFSETFROM:+0200
TZOFFSETTO:+0100
TZNAME:CET
END:STANDARD
END:VTIMEZONE
END:VCALENDAR