BEGIN:VCALENDAR
VERSION:2.0
PRODID:-//wp-events-plugin.com//7.2.2.1//EN
TZID:Europe/Paris
X-WR-TIMEZONE:Europe/Paris
BEGIN:VEVENT
UID:82@montagnerando-fonsegrives.com
DTSTART;TZID=Europe/Paris;VALUE=DATE:20170108
DTEND;TZID=Europe/Paris;VALUE=DATE:20170109
DTSTAMP:20171130T110340Z
URL:https://montagnerando-fonsegrives.com/events/dimanche-8-janvier-2017-s
 ortie-a-la-neige/
SUMMARY:Dimanche 8 janvier 2017 -  Les Monts d’Olmes – Etang d’Appy (
 2028 m) - Sortie à la neige Randonnée RAQUETTES
DESCRIPTION:Dimanche 8 janvier 2017 - Les Monts d’Olmes – Etang d’App
 y (2028 m)         \nPrésentation de la randonnée : \nPoint de
  départ : Se garer sur le grand parking en bout de route\nCompter deux he
 ures de voiture pour rejoindre le point de départ (130 kms) Coordonnées 
 GPS : 42° 50' 0.58'' N / 1° 44' 0.79'' E\nLes différents parcours :\nBo
 ucle pour Marcheurs : Montée à l’étang d’Appy. Randonnée de 10 kms
 \, dénivelé : 780 m Temps : 4h00 \nOptions possibles : A/R vers  Pic du
  Han : + 1\,0 kms + 120 m Pic de Galinat : + 1\,7 kms + 60 m Pic de St-B
 arthélemy : + 3\,0 kms + 460 m\nLa traversée du Col de Cadène et du Col
  de l'étang d'Appy nous permet de jouir de beaux panoramas sur les montag
 nes ariègeoises.\nEntre les deux\, on peut savourer un moment de repos su
 r les rives du joli étang d'Appy dominé par le Pic de SaintBarthélemy. 
 Tant les passages au Col de Cadène qu'au Col de l'étang d'Appy pourront 
 être l'occasion de belles échappées vers les sommets avoisinants\, et n
 otamment l'emblématique Saint-Barthélemy. Cette boucle ne présente pas 
 de difficulté. Les options qui peuvent pimenter la randonnée par des all
 ers-retours au Pic du Han\, Pic de Galinat ou au Pic de Saint-Barthélemy 
 sont à effectuer entre le printemps et l’automne.\n| Shortcode: [sgpx g
 px="/wp-content/uploads/gpx/Etg d'Appy Montsd'Olmes.gpx"]\nPour téléchar
 ger le topo\, cliquez ici\nINSCRIVEZ-VOUS\n Sans attendre le dernier momen
 t AVANT MERCREDI 20 h.30\nINFORMATIONS\nLe car sera en place dès 6 h 45 p
 our un départ effectif à 7 h 00 précises\, ne soyez pas en retard\nCONS
 IGNES\nChoisissez-bien votre Groupe de niveau\, en fonction des précision
 s données dans le car par les animateurs et de votre état de forme.\nMun
 issez-vous des équipements individuels minimum suivants\, exigés pour pa
 rticiper en sécurité à cette randonnée à raquettes:\nChaussures adapt
 ées\, raquettes et bâtons. Vêtements et équipements de protection cont
 re le froid\, le vent\, la neige et le soleil (lunettes\, crème solaire\,
  etc…)\nEau en quantité suffisante\, repas de déjeuner et vivres de co
 urse\,\nN’oubliez pas le cas échéant\, un peu d’argent liquide\, vos
  médicaments personnels\, éventuellement votre téléphone mobile\, votr
 e appareil photo… et en tous cas\, votre bonne humeur !\nEN CAS D'ANNUL
 ATION\nVeuillez contacter :\nPar messagerie aux adresses suivantes:\n- Ber
 nard PORCHERON : porcheron.bernard@wanadoo.fr - Jacques VIGUIÉ : viguieja
 cques@orange.fr\nPar téléphone auprès de :\n- Bernard PORCHERON : 05.61
 .80.13.22 ou 06.81.59.25.69\n- Jacques VIGUIÉ : 06.70.72.94.76
CATEGORIES:Rando
END:VEVENT
BEGIN:VTIMEZONE
TZID:Europe/Paris
X-LIC-LOCATION:Europe/Paris
BEGIN:STANDARD
DTSTART:20161030T020000
TZOFFSETFROM:+0200
TZOFFSETTO:+0100
TZNAME:CET
END:STANDARD
END:VTIMEZONE
END:VCALENDAR