BEGIN:VCALENDAR
VERSION:2.0
PRODID:-//wp-events-plugin.com//7.2.2.1//EN
TZID:Europe/Paris
X-WR-TIMEZONE:Europe/Paris
BEGIN:VEVENT
UID:89@montagnerando-fonsegrives.com
DTSTART;TZID=Europe/Paris;VALUE=DATE:20170409
DTEND;TZID=Europe/Paris;VALUE=DATE:20170410
DTSTAMP:20171202T200009Z
URL:https://montagnerando-fonsegrives.com/events/dimanche-9-avril-repas-ch
 ampetre-avec-petite-randonnee-le-matin/
SUMMARY:Dimanche 9 avril = Repas Champêtre à Lectoure
DESCRIPTION:Repas Champêtre à Lectoure = 2 boucles avant le repas\nPour c
 élébrer le printemps\, la section Montagne Rando vous invite à son trad
 itionnel  Repas Champêtre  DIMANCHE  9 AVRIL 2017 Dans le Gers\, à Le
 ctoure.\nLectoure – Lac des 3 vallées. Cartes IGN : 1841E &amp\; 1842E\
 nPrésentation de la randonnée : Point de départ : Parking bus Place Pie
 rre Brossolette. Coordonnées GPS : 43.931350 N/0.626330 E Depuis Fonsegri
 ves 125 kms (1h30) via Auch ou Moissac\nLes différents parcours : • Bou
 cle pour Marcheurs : Itinéraire de 8 kms\, dénivelé : 160 m\, Temps : 2
 h30 \n• Boucle pour Randonneurs : Même parcours que les Marcheurs jusqu
 ’au lac des 3 vallées. Distance : 14 kms\, dénivelé : 240m Temps : 3h
 30. (PR n° 6 : balisage jaune)\nCet itinéraire jouit d’un panorama rem
 arquable sur la campagne environnante et\, par temps clair sur les Pyrén
 ées. Lors de votre parcours\, vous emprunterez des corniches calcaires\, 
 des petites vallées et vous rencontrerez le Lac des 3 vallées (complexe 
 touristique accueillant jusqu’à 4000 personnes de juin à fin Août)\, 
 un point de vue sur la vallée du Gers (peu après le lieu-dit « CAPIROT 
 ») et une belle demeure rurale à Comarens. Au cours de la randonnée vou
 s aurez peut-être la chance d’apercevoir lapins et chevreuils. Les deux
  itinéraires sont communs jusqu’à la rencontre du Lac des 3 vallées (
 balisage jaune et rouge à partir du départ) puis\, les marcheurs partiro
 nt sur la gauche (balisage VTT jaune N°7) en longeant le ruisseau « le T
 ouron » jusqu’ à la maison en ruine « la Mouline »\, une ancienne ta
 nnerie : point où ils retrouvent l’autre circuit. Pour les randonneurs\
 , longez le lac puis suivre balisage jaune jusqu’au chemin GRP (balisage
  jaune et rouge). Le final se fait en suivant la balisage PR6 en jaune. Pr
 enez le temps d’errer dans Lectoure\, perché sur son oppidum et de visi
 ter la cathédrale\, le musée situé dans les caves de l’ancien évêch
 é\, l’hôtel de ville\, et parmi les ruelles de la cité\, aller à la 
 rencontre de nombreux couvents (chapelle du Carmel)\, de la fontaine Honte
 lie\, la tannerie royale\, l’atelier du bleu\, la maison natale du Maré
 chal Lannes\, les hôtels particuliers et l’hôpital.\nMétéo : 08 99 7
 1 02 32. Office de tourisme : 05 62 68 76 98.\nSecours : 112. Gendarmerie 
 : 05 62 68 70 17.\n[sgpx gpx="/wp-content/uploads/gpx/gpx Lectoure.gpx"]\n
 Pour télécharger le topo\, cliquez ici\nINSCRIVEZ-VOUS  IMPERATIVEMENT 
 AVANT LE 20 MARS\nPour télécharger le document\, [ddownload id="6721"]\n
 Rando = 2 boucles Marcheurs / Randonneurs avant le repas. Marche Nordique
  = 1 boucle avant le repas\nLe car sera en place dès 6 h 45 pour un dépa
 rt effectif à 7 h 00 précises\, ne soyez pas en retard.\nLes directives 
 d’animation des Groupes de niveau seront données au départ de la rando
 nnée.\nCONSEILS PRATIQUES\nMunissez-vous des équipements individuels min
 imum suivants\, exigés pour participer en sécurité à cette randonnée 
 :\n– Chaussures de randonnée adaptées\, les « baskets » ne sont pas 
 autorisés\,\n– Vêtements et équipements de protection\, bonnet\, gant
 s\, bâtons\, guêtres ..\n– Eau en quantité suffisante\,\nN’oubliez 
 pas\, vos médicaments personnels\, éventuellement votre téléphone mobi
 le\, appareil photo… et surtout n’oubliez pas votre crème solaire\, v
 os lunettes… et votre bonne humeur !\nEN CAS D’ANNULATION\nVeuillez co
 ntacter :\nPar messagerie aux adresses suivantes:\n– Bernard PORCHERON :
  porcheron.bernard@wanadoo.fr – Jacques VIGUIÉ : viguiejacques@orange.f
 r\nPar téléphone auprès de :\n– Bernard PORCHERON : 05.61.80.13.22 ou
  06.81.59.25.69\n– Jacques VIGUIÉ : 06.70.72.94.76
CATEGORIES:Festivités
END:VEVENT
BEGIN:VTIMEZONE
TZID:Europe/Paris
X-LIC-LOCATION:Europe/Paris
BEGIN:DAYLIGHT
DTSTART:20170326T030000
TZOFFSETFROM:+0100
TZOFFSETTO:+0200
TZNAME:CEST
END:DAYLIGHT
END:VTIMEZONE
END:VCALENDAR