BEGIN:VCALENDAR
VERSION:2.0
PRODID:-//wp-events-plugin.com//7.2.2.1//EN
TZID:Europe/Paris
X-WR-TIMEZONE:Europe/Paris
BEGIN:VEVENT
UID:150@montagnerando-fonsegrives.com
DTSTART;TZID=Europe/Paris;VALUE=DATE:20180909
DTEND;TZID=Europe/Paris;VALUE=DATE:20180910
DTSTAMP:20180906T190041Z
URL:https://montagnerando-fonsegrives.com/events/dimanche-9-septembre-2018
 -randonnee-pedestre-superbagneres-cecire/
SUMMARY:Dimanche 9 Septembre 2018 = Randonnée Pédestre [Superbagnères 
 – Céciré]
DESCRIPTION:Superbagnères – Pic de Céciré (2403 m) - Carte IGN : 1848 
 OT\nUne randonnée tranquille en A.-R. le long du GR10\, avec une vue perm
 anente sur les montagnes du Luchonnais. Cette randonnée ne sera accessibl
 e qu’aux adhérent(e)s ayant finalisé leur inscription à la section AV
 ANT FIN JUIN 2018.\nPrésentation de la randonnée : Point de départ : Se
  garer au niveau de l’arrivée du téléski d’Arbesquens. Se trouve à
  166 kms de Toulouse\, 2H10 de route. Coordonnées GPS : 42\,7679° N \; 0
  \,57651) E.\nLes différents parcours : • Aller - Retour pour Marcheurs
  : Marcher en direction du Pic de Céciré. Distance : 11 kms\, dénivelé
  : 550 m\, Temps : 3h45\n• Aller – Retour pour Randonneurs : Rejoindre
  le Pic de Céciré (2403 m) Distance : 12 kms\, dénivelé : 650 m\, Temp
 s : 4h00.\nLe Céciré domine de plus de 500 m le domaine skiable de Super
 bagnères.\nUn sommet à succès : Son ascension sans neige se fait facile
 ment dans la demi-journée. Ce n’est pas pour autant qu’on y trouve un
 e vue au rabais\, bien au contraire\, le panorama est de tout premier ordr
 e sur le Haut Luchonnais\, avec ses nombreux 3000\, et s’étire\, au-del
 à\, vers le Maubermé en Ariège et le Massif du Néouvielle dans les Hau
 tes Pyrénées.\n[sgpx gpx="/wp-content/uploads/gpx/GPX Pic de Céciré.gp
 x"]\nPour télécharger le topo : cliquez ici\n\n\n\nCONSEILS PRATIQUES\n
  Munissez-vous des équipements individuels minimum suivants\, exigés pou
 r participer en sécurité à cette randonnée  :\n– Chaussures de rand
 onnée adaptées\, les « baskets » ne sont pas autorisés\,\n– Vêteme
 nts et équipements de protection\, bonnet\, gants\, bâtons\, guêtres ..
 \n– Eau en quantité suffisante\, repas de déjeuner et vivres de course
 \,\nN’oubliez pas\, vos médicaments personnels\, éventuellement votre 
 téléphone mobile\, appareil photo… et surtout n’oubliez pas votre cr
 ème solaire\, vos lunettes… et votre bonne humeur !\nEN CAS D’ANNULAT
 ION\nVeuillez contacter :\nPar messagerie aux adresses suivantes:\n– Ber
 nard PORCHERON : porcheron.bernard@wanadoo.fr – Jacques VIGUIÉ : viguie
 jacques@orange.fr\nPar téléphone auprès de :\n– Bernard PORCHERON : 0
 5.61.80.13.22 ou 06.81.59.25.69\n– Jacques VIGUIÉ : 06.70.72.94.76
CATEGORIES:Rando
END:VEVENT
BEGIN:VTIMEZONE
TZID:Europe/Paris
X-LIC-LOCATION:Europe/Paris
BEGIN:DAYLIGHT
DTSTART:20180325T030000
TZOFFSETFROM:+0100
TZOFFSETTO:+0200
TZNAME:CEST
END:DAYLIGHT
END:VTIMEZONE
END:VCALENDAR