BEGIN:VCALENDAR
VERSION:2.0
PRODID:-//wp-events-plugin.com//7.2.2.1//EN
TZID:Europe/Paris
X-WR-TIMEZONE:Europe/Paris
BEGIN:VEVENT
UID:133@montagnerando-fonsegrives.com
DTSTART;TZID=Europe/Paris;VALUE=DATE:20190113
DTEND;TZID=Europe/Paris;VALUE=DATE:20190114
DTSTAMP:20190110T173109Z
URL:https://montagnerando-fonsegrives.com/events/dimanches-13-janvier-2019
 -randonnee-raquettes/
SUMMARY:Dimanche 13 janvier 2019 = Randonnée Pédestres - Le Mas d’Azil 
 – Les Trois dolmens
DESCRIPTION:Le Mas d’Azil – Les Trois dolmens - Cartes IGN : 2848 ET\nP
 résentation de la randonnée : Point de départ : Parking place du fond d
 e la ville au Mas d’Azil (Ariège) Se trouve à 102 kms de Toulouse\, 1H
 30 de route. Coordonnées GPS : LAT/LNG\n43\,073708 N / 1\,357411\nLes dif
 férents parcours : • Boucle Marcheurs : Distance : 15\,5 kms\, dénivel
 é : 450 m\, Durée : 5h15 • Boucle Randonneurs : Distance : 18 kms\, d
 énivelé : 600 m\, Durée : 6h00\nUne quinzaine de dolmens ont été rece
 nsés dans tout le département de l’Ariège dont onze se situent dans l
 e canton du Mas d’Azil. Tous semblables par leur architecture (deux pier
 res verticales : orthostates\, supportant une impressionnante dalle « tab
 le »). Ces mégalithes diffèrent cependant de par leur taille et leur im
 plantation. Les campagnes de fouilles ont révélé un nombre important d
 ’ossements humains mais également des matériaux divers qui permettent 
 de les dater de l’Age de bronze (188-700 avant JC) et qui fournissent de
 s indications précises dur les rites funéraires de cette période. Cet i
 tinéraire vous permettra d’accéder à trois d’entre eux : cap del Po
 uech\, Brillaud et Couminge\, figurant parmi les plus spectaculaires et le
 s mieux conservés. Le dolmen de Couminge\, est une sépulture qui date du
  néolithique de 1800 0 700 avant JC et dont la dalle pèse plusieurs tonn
 es. Faites de pierres bien plus petites\, les cabanes paysannes et les mur
 ets qui soutenaient les terrasses cultivées\, continuent de souligner le 
 paysage. Elles sont en pierre sèche\, assemblées sans mortier et leur co
 nservation est aujourd’hui une priorité.\nMétéo : 08 99 71 02 09. Sec
 ours : 112.\nPour télécharger le topo\, cliquez ici\n[sgpx gpx="/wp-con
 tent/uploads/gpx/Mas azil randonneurs.gpx"][sgpx gpx="/wp-content/uploads/
 gpx/Mas azil marcheurs.gpx"]\nCONSEILS PRATIQUES\n Munissez-vous des équi
 pements individuels minimum suivants\, exigés pour participer en sécurit
 é à cette randonnée :\n– Chaussures de randonnée adaptées\, les « 
 baskets » ne sont pas autorisés\,\n– Vêtements et équipements de pro
 tection\, bonnet\, gants\, bâtons\, guêtres ..\n– Eau en quantité suf
 fisante\, repas de déjeuner et vivres de course\,\nN’oubliez pas\, vos 
 médicaments personnels\, éventuellement votre téléphone mobile\, appar
 eil photo… et surtout n’oubliez pas votre crème solaire\, vos lunette
 s… et votre bonne humeur !\nEN CAS D’ANNULATION\nVeuillez contacter :\
 nPar messagerie aux adresses suivantes:\n– Bernard PORCHERON : porcheron
 .bernard@wanadoo.fr – Jacques VIGUIÉ : viguiejacques@orange.fr\nPar té
 léphone auprès de :\n– Bernard PORCHERON : 05.61.80.13.22 ou 06.81.59.
 25.69\n– Jacques VIGUIÉ : 06.70.72.94.76
CATEGORIES:Rando
END:VEVENT
BEGIN:VTIMEZONE
TZID:Europe/Paris
X-LIC-LOCATION:Europe/Paris
BEGIN:STANDARD
DTSTART:20181028T020000
TZOFFSETFROM:+0200
TZOFFSETTO:+0100
TZNAME:CET
END:STANDARD
END:VTIMEZONE
END:VCALENDAR