BEGIN:VCALENDAR
VERSION:2.0
PRODID:-//wp-events-plugin.com//7.2.2.1//EN
TZID:Europe/Paris
X-WR-TIMEZONE:Europe/Paris
BEGIN:VEVENT
UID:186@montagnerando-fonsegrives.com
DTSTART;TZID=Europe/Paris;VALUE=DATE:20200126
DTEND;TZID=Europe/Paris;VALUE=DATE:20200127
DTSTAMP:20200118T114713Z
URL:https://montagnerando-fonsegrives.com/events/dimanches-26-janvier-rand
 onnees-raquettes/
SUMMARY:Dimanches 26 janvier = Randonnée Raquettes
DESCRIPTION:Attention : Départ à 7h30\n\nSuivant les conditions climatiqu
 es\, les randonnées raquettes pourront être remplacées par des randonn
 ées pédestres. Une randonnée pédestre sera programmée durant l’hive
 r.\nDes informations plus précises vous seront données  jeudi 23 janvie
 r.\n\nCONSEILS PRATIQUES\nMunissez-vous des équipements individuels minim
 um suivants\, exigés pour participer en sécurité à cette randonnée :\
 n– Chaussures de randonnée adaptées\, les « baskets » ne sont pas au
 torisés\,\n– Vêtements et équipements de protection\, bonnet\, gants\
 , bâtons\, guêtres ..\n– Eau en quantité suffisante\, repas de déjeu
 ner et vivres de course\,\nN’oubliez pas\, vos médicaments personnels\,
  éventuellement votre téléphone mobile\, appareil photo… et surtout n
 ’oubliez pas votre crème solaire\, vos lunettes… et votre bonne humeu
 r !\nEN CAS D’ANNULATION\nVeuillez contacter :\nPar messagerie aux adres
 ses suivantes:\n– Bernard PORCHERON : porcheron.bernard@wanadoo.fr – J
 acques VIGUIÉ : viguiejacques@orange.fr\nPar téléphone auprès de :\n
 – Bernard PORCHERON : 05.61.80.13.22 ou 06.81.59.25.69\n– Jacques VIGU
 IÉ : 06.70.72.94.76
CATEGORIES:Rando
END:VEVENT
BEGIN:VTIMEZONE
TZID:Europe/Paris
X-LIC-LOCATION:Europe/Paris
BEGIN:STANDARD
DTSTART:20191027T020000
TZOFFSETFROM:+0200
TZOFFSETTO:+0100
TZNAME:CET
END:STANDARD
END:VTIMEZONE
END:VCALENDAR