BEGIN:VCALENDAR
VERSION:2.0
PRODID:-//wp-events-plugin.com//7.2.2.1//EN
TZID:Europe/Paris
X-WR-TIMEZONE:Europe/Paris
BEGIN:VEVENT
UID:233@montagnerando-fonsegrives.com
DTSTART;TZID=Europe/Paris;VALUE=DATE:20220605
DTEND;TZID=Europe/Paris;VALUE=DATE:20220607
DTSTAMP:20220525T122838Z
URL:https://montagnerando-fonsegrives.com/events/du-vendredi-3-juin-au-lun
 di-6-juin-2022-week-end-a-torla-2/
SUMMARY:Du Vendredi 3 Juin au Lundi 6 Juin 2022 : Week-end à Torla
DESCRIPTION:Week end de la Pentecôte à TORLA (Vallée d'Ordesa) \n\n\n&n
 bsp\;\n\nLe Séjour :\n\n\n\n\n\n\n\n\n\n\n\n\n\n\nHébergement : Hôtel B
 ujaruelo à Torla\n- Vendredi 3 Juin = repas du soir et nuitée\n- Samedi 
 4 Juin = petit-déjeuner / pique-nique /repas du soir/ nuitée\n- Dimanche
  5 Juin = petit-déjeuner / pique-nique /repas du soir/ nuitée\n- Lundi 6
  Juin = petit-déjeuner / pique-nique\n\nTransport en covoiturage :\n- fra
 is partagés par accord entre chauffeurs et passagers\n\nTrajet :\n- Saint
 -Lary / tunnel d’Aragnouet-Bielsa / à Ainsa tourner à droite vers Bolt
 aña / continuer jusqu’à Torla\n- 270 km / temps = 4 h.\n\n\n\n\n\n\n\n
 \n\n\n\n\n\n\n\n\n\n\nLes Parcours :\nCi dessous\, les topo et traces GPX 
 des randonnées prévues .\n\n 	FAJA de Pelay (Valle de Ordesa) \n\n 	Iti
 néraire Marcheurs : aller/retour jusqu’à la  "Cascada Cola de cabal
 lo"\nDistance : 16\,0 kms\, dénivelé : 600 m\, Temps : 6 h 00.\n 	Bouc
 le Randonneurs : aller jusqu’à la cascade et retour par le balcon de l
 a Faja de Pelay.\nDistance : 18\,5 kms\, dénivelé : 1100 m\, Temps : 6
  h 35.\n\n\n 	Punta MONDOTO depuis Nerin\n\n 	Itinéraire Marcheurs : A/R
  Punta MONDOTO\nDistance : 8\,7 kms\, dénivelé : 660 m\, Temps : 4 h 0
 0\nOption La Estiva : A/R + 2\,5 kms\, + 190 m\, + 1h 00\n 	Boucle Randonn
 eurs : boucle Punta Mondoto por el cuello Arenas\nDistance 15\,3 kms\, de
 ́nivelé : 950 m\, Temps : 6h 00.\n\n\n 	Circo de Pineta por el salto de
  la Larri\n\n 	Itinéraire commun Marcheurs/Randonneurs :\nDistance 7\,0 
 kms\, dénivelé : 550 m\, Temps : 3h 35.\n\n\n\n\n\n\n\n\n\n\n\n\n\n\n\
 n\n\n\n\n\n\n\n\n\n\n\n\n\n\n\n\n\n\n\n\n&nbsp\;\n\n\n\n\n\n\n\n\n\n\n\n\n
 \n\n&nbsp\;\n\n\n\n\n\n\n\n\n\n\n\n\n\n\n
ATTACH;FMTTYPE=image/jpeg:https://montagnerando-fonsegrives.com/wp-content
 /uploads/2022/05/00-Canyon-Ordesa.png
END:VEVENT
BEGIN:VTIMEZONE
TZID:Europe/Paris
X-LIC-LOCATION:Europe/Paris
BEGIN:DAYLIGHT
DTSTART:20220327T030000
TZOFFSETFROM:+0100
TZOFFSETTO:+0200
TZNAME:CEST
END:DAYLIGHT
END:VTIMEZONE
END:VCALENDAR