BEGIN:VCALENDAR
VERSION:2.0
PRODID:-//wp-events-plugin.com//7.2.2.1//EN
TZID:Europe/Paris
X-WR-TIMEZONE:Europe/Paris
BEGIN:VEVENT
UID:235@montagnerando-fonsegrives.com
DTSTART;TZID=Europe/Paris;VALUE=DATE:20220603
DTEND;TZID=Europe/Paris;VALUE=DATE:20220607
DTSTAMP:20220610T115835Z
URL:https://montagnerando-fonsegrives.com/events/du-vendredi-3-juin-au-lun
 di-6-juin-2022-week-end-a-torla-4/
SUMMARY:Du Vendredi 3 Juin au Lundi 6 Juin 2022 : Week-end à Torla
DESCRIPTION:Week end de la Pentecôte à TORLA (Vallée d'Ordesa) \n\n\n&n
 bsp\;\n\nLe Séjour: (la fiche descriptive)\n\n\n\n\n\n\n\n\n\n\n\n\n\n\nH
 ébergement : Hôtel Bujaruelo à Torla\n- Vendredi 3 Juin = repas du soir
  et nuitée\n- Samedi 4 Juin = petit-déjeuner / pique-nique /repas du soi
 r/ nuitée\n- Dimanche 5 Juin = petit-déjeuner / pique-nique /repas du so
 ir/ nuitée\n- Lundi 6 Juin = petit-déjeuner / pique-nique\n\nTransport e
 n covoiturage :\n- frais partagés par accord entre chauffeurs et passager
 s\n\nTrajet :\n- Saint-Lary / tunnel d’Aragnouet-Bielsa / à Ainsa tourn
 er à droite vers Boltaña / continuer jusqu’à Torla\n- 270 km / temps 
 = 4 h.\n\n\n\n\n\n\n\n\n\n\n\n\n\n\n\n\n\n\nLes Parcours :\nCi dessous\, l
 es topo et traces GPX des randonnées prévues .\n\n 	FAJA de Pelay (Valle
  de Ordesa) \n\n 	Itinéraire Marcheurs : aller/retour jusqu’à la  
 "Cascada Cola de caballo"\nDistance : 18\,0 kms\, dénivelé : 450 m\, T
 emps : 6 h 00.\n 	Boucle Randonneurs : aller jusqu’à la cascade et ret
 our par le balcon de la Faja de Pelay.\nDistance : 20 kms\, dénivelé :
  800 m\, Temps : 8 h 00.\n\n\n 	Punta MONDOTO depuis Nerin\n\n 	Itinérai
 re Marcheurs : A/R Punta MONDOTO\nDistance : 8\,7 kms\, dénivelé : 660
  m\, Temps : 4 h 00\nOption La Estiva : A/R + 2\,5 kms\, + 190 m\, + 1h 00
 \n 	Boucle Randonneurs : boucle Punta Mondoto por el cuello Arenas\nDistan
 ce 15\,3 kms\, dénivelé : 870 m\, Temps : 6h 15.\n\n\n 	Circo de Pinet
 a por el salto de la Larri\n\n 	Itinéraire commun Marcheurs/Randonneurs 
 :\nDistance 7\,8 kms\, dénivelé : 360 m\, Temps : 3h 35.\n\n\n\n\n\n\n
 \n\n\n\n\n\n\n\n\n\n\n\n\n\n\n\n\n\n\n\n\n\n\n\n\n\n\n\n\n&nbsp\;\n\n\n\n\
 n\n\n\n\n\n\n\n\n\n\n&nbsp\;\n\n\n\n\n\n\n\n\n\n\n\n\n\n\n
ATTACH;FMTTYPE=image/jpeg:https://montagnerando-fonsegrives.com/wp-content
 /uploads/2022/05/00-Canyon-Ordesa.png
END:VEVENT
BEGIN:VTIMEZONE
TZID:Europe/Paris
X-LIC-LOCATION:Europe/Paris
BEGIN:DAYLIGHT
DTSTART:20220327T030000
TZOFFSETFROM:+0100
TZOFFSETTO:+0200
TZNAME:CEST
END:DAYLIGHT
END:VTIMEZONE
END:VCALENDAR