BEGIN:VCALENDAR
VERSION:2.0
PRODID:-//wp-events-plugin.com//7.2.2.1//EN
TZID:Europe/Paris
X-WR-TIMEZONE:Europe/Paris
BEGIN:VEVENT
UID:369@montagnerando-fonsegrives.com
DTSTART;TZID=Europe/Paris:20250628T080000
DTEND;TZID=Europe/Paris:20250628T140000
DTSTAMP:20250619T060413Z
URL:https://montagnerando-fonsegrives.com/events/hostal-ete-st-ferreol/
SUMMARY:Hostal de l'Été - St Ferréol (31)
DESCRIPTION:Hostal de l'Été - St Ferréol\n\n\n\n\n\n\n\n\n\n\n\n\n\n\n\n
 \nCo-voiturage : départ à 8h depuis le parking du boulodrome\n\n\n\nLoca
 lisation des Randonnées\nDépart/Arrivée : parking de la base de loisirs
 \, au Nord du lac\, sur la droite de la route juste après le bâtiment en
  bois.\nDistance depuis Fonsegrives : 47 km – 0h45 (voiture)\nTéléchar
 ger le topo \, GPX Marcheurs\, GPX Marche Nordique\nCarte IGN 2344 OT\nMé
 teo : 08 99 71 02 31 - Secours : 112\n\n\n\n\n\n\n\n\n\n\n\n\n\n\n\n\n\n\n
 \n\n\n\n\n\n\n\n\n\n\n\n\n\n\nDescriptif \nAprès deux tentatives avorté
 es à cause du mauvais temps en 2023 et 2024\, voici le retour de l'Hostal
  d'été à Saint-Ferréol!\n\nLe parcours des Marcheurs/Randonneurs longe
  le lac\, emprunte le barrage\, puis suit le versant Sud du lac jusqu'au b
 out avant de monter sur les hauteurs. Après un parcours sur de larges pis
 tes et un passage par le camping de Peyre Bazal\, retour le long du Laudot
  sur le chemin des amoureux. Belle balade qui offre des paysages variés\,
  une végétation riche et de belles vues sur le lac et la plaine voisine 
 (si la végétation n'est pas trop haute!). Attention terrains possiblemen
 t boueux par endroits\, présence possible d’herbes hautes\, ronces et o
 rties\, chaussures fermées et pantalons longs recommandés !\n\nPendant c
 e temps les Marcheurs Nordiques feront de la marche\, des jeux et exercice
 s divers autour du lac avec Michel.\n\nPour des questions de logistiques\,
  merci de vous inscrire en suivant ce lien\n\n\n\n\n\n\n\n\n\n\n\n\n\n\n\n
 \n\n\n\n\n\n\nPARCOURS MARCHEURS\nTrajet : tour du lac\, camping de Peyre 
 Bazal\, retour par le chemin des amoureux.\nDistance : 12\,5 km\, dénivel
 é :   330 m\, durée : 3h30\nEffort 2 (IBP 49)\, Technicité 1\, Risque
  1\n\n[sgpx gpx="/wp-content/uploads/gpx/31-Saint-Ferreol-Hostal_dEte-RGE_
 ALTI.gpx"]\n\n\n\nPARCOURS MARCHE NORDIQUE\nTrajet : tour du lac\nDistance
  : 5\,3 km\, dénivelé : 55 m\n\n\n[sgpx gpx="/wp-content/uploads/gpx/Hos
 taldeleteMarcheNordique.gpx"]\n\n\n\n&nbsp\;\n\n\n\n\n\n\n\n\n\n\n\n\n\n\n
 \n\n\n\n\n\n\n\n\n\n\n\n\n\n\n
ATTACH;FMTTYPE=image/jpeg:https://montagnerando-fonsegrives.com/wp-content
 /uploads/2023/05/2023-07-01-St-Ferreol.png
CATEGORIES:Rando
END:VEVENT
BEGIN:VTIMEZONE
TZID:Europe/Paris
X-LIC-LOCATION:Europe/Paris
BEGIN:DAYLIGHT
DTSTART:20250330T030000
TZOFFSETFROM:+0100
TZOFFSETTO:+0200
TZNAME:CEST
END:DAYLIGHT
END:VTIMEZONE
END:VCALENDAR