BEGIN:VCALENDAR
VERSION:2.0
PRODID:-//wp-events-plugin.com//7.2.2.1//EN
TZID:Europe/Paris
X-WR-TIMEZONE:Europe/Paris
BEGIN:VEVENT
UID:98@montagnerando-fonsegrives.com
DTSTART;TZID=Europe/Paris;VALUE=DATE:20170624
DTEND;TZID=Europe/Paris;VALUE=DATE:20170625
DTSTAMP:20170518T175044Z
URL:https://montagnerando-fonsegrives.com/events/journee-decouverte-de-la-
 marche-nordique/
SUMMARY:Journée Découverte de la Marche Nordique
DESCRIPTION:Journée Découverte de la Marche Nordique - 3 séances de déc
 ouverte à Quint-Fonsegrives\nTransport individuel. Horaire suivant Info.\
 nOrganisée par les Animateurs de notre Section\, la journée Découverte 
 est ouverte à toute personne intéressée par sa pratique.\nSamedi  24 J
 uin journée découverte  Marche Nordique.\nRendez-vous  au boulodrome 
  de Quint-Fonsegrives  en tenue de sport confortable\, équipé  de cha
 ussures type ''trail'' ou ''running'' et muni d'une bouteille d'eau ( dans
  un petit sac à  dos ou un sac ''banane".\nPour cette occasion la sectio
 n met à  votre disposition gracieusement des bâtons spécifiques Marche
  Nordique.\nPour  des raisons  d' organisation les personnes intéressé
 es  doivent s'inscrire \, en précisant le créneau horaire qui leur conv
 ient : 9h à  10 h 30 \, 10 h 30 à  midi \, ou 14 h à  15 h 30 .\nPou
 r tout renseignement complémentaire et inscription : yvette.wallimann@wan
 adoo.fr
CATEGORIES:Marche Nordique
END:VEVENT
BEGIN:VTIMEZONE
TZID:Europe/Paris
X-LIC-LOCATION:Europe/Paris
BEGIN:DAYLIGHT
DTSTART:20170326T030000
TZOFFSETFROM:+0100
TZOFFSETTO:+0200
TZNAME:CEST
END:DAYLIGHT
END:VTIMEZONE
END:VCALENDAR