BEGIN:VCALENDAR
VERSION:2.0
PRODID:-//wp-events-plugin.com//7.2.2.1//EN
TZID:Europe/Paris
X-WR-TIMEZONE:Europe/Paris
BEGIN:VEVENT
UID:380@montagnerando-fonsegrives.com
DTSTART;TZID=Europe/Paris;VALUE=DATE:20260621
DTEND;TZID=Europe/Paris;VALUE=DATE:20260622
DTSTAMP:20251218T125813Z
URL:https://montagnerando-fonsegrives.com/events/la-coume-dor-66/
SUMMARY:La Coume d'Or (66)
DESCRIPTION:Porté-Puymorens  - La Coume d'Or\n\n\n\n\n\n\n\n\n\n\n\n\n\n\
 n\n\nBus : départ à 7h depuis le parking Complexe Patrick Pépi\n\n\n\nL
 ocalisation des Randonnées\nDépart/Arrivée : col de Porté-Puymorens\nD
 istance depuis Fonsegrives : 153 km – 2h30 (car)\nTélécharger le topo 
 \, GPX Marcheurs\, GPX Randonneurs\nCarte IGN 2249 OT\nMéteo : 08 99 71 0
 2 66 - Secours : 112\n\n\n\n\n\n\n\n\n\n\n\n\n\n\n\n\n\n\n\n\n\n\n\n\n\n\n
 \n\n\n\n\n\n\nDescriptif \nDescriptif à venir\n\n\n\n\n\n\n\n\n\n\n\n\n\
 n\n\n\n\n\nInscriptions possibles à partir du Dimanche 14 juin\nMerci de 
 confirmer votre inscription avant Jeudi 18 juin 19h30\n\n\n\nPARCOURS MARC
 HEURS\nTrajet : Estany de Coma d'Or (boucle)\nDistance : 14\,7 km\, déniv
 elé :  740 m\, durée : 5h30 (xh00 avec pauses/marge)\nEffort 4 (IBP 98)
 \, Technicité 2\, Risque 3\n\n[WP GPX Maps Marcheurs]\n\n\n\nPARCOURS RAN
 DONNEURS\nTrajet : Puig de Coma d'Or (boucle)\nDistance : 15\,1 km\, déni
 velé : 980 m\, durée : 6h00 (xh00 avec pauses/marge)\nEffort 5 (IBP 117)
 \, Technicité 3\, Risque 4\n\n\n[WP GPX Maps Randonneurs]\n\n\n\n&nbsp\;\
 n\n\n\n\n\n\n\n\n\n\n\n\n\n\n\n\n\n\n\n\n\n\n\n\n\n\n\n\n\n
ATTACH;FMTTYPE=image/jpeg:https://montagnerando-fonsegrives.com/wp-content
 /uploads/2024/12/2025-06-22-LaCoumedOr.jpg
CATEGORIES:Rando
END:VEVENT
BEGIN:VTIMEZONE
TZID:Europe/Paris
X-LIC-LOCATION:Europe/Paris
BEGIN:DAYLIGHT
DTSTART:20260329T030000
TZOFFSETFROM:+0100
TZOFFSETTO:+0200
TZNAME:CEST
END:DAYLIGHT
END:VTIMEZONE
END:VCALENDAR