BEGIN:VCALENDAR
VERSION:2.0
PRODID:-//wp-events-plugin.com//7.2.2.1//EN
TZID:Europe/Paris
X-WR-TIMEZONE:Europe/Paris
BEGIN:VEVENT
UID:163@montagnerando-fonsegrives.com
DTSTART;TZID=Europe/Paris;VALUE=DATE:20181231
DTEND;TZID=Europe/Paris;VALUE=DATE:20190101
DTSTAMP:20180424T132853Z
URL:https://montagnerando-fonsegrives.com/events/lundi-31-decembre-2018-re
 veillon-de-la-section-montagne-salle-de-la-marne/
SUMMARY:Lundi 31 Décembre 2018 = RÉVEILLON de la Section Montagne (Salle 
 de la Marne)
DESCRIPTION:RÉVEILLON de la Section Montagne (Salle de la Marne)\nDes info
 rmations précises sur le Site et par e-mails vous seront données dès se
 ptembre.\n
CATEGORIES:Festivités
LOCATION:Salle de la Marne\, Rue des Coteaux\, QUINT FONSEGRIVES\, 31130\, 
 France
GEO:43.585815;1.535164
X-APPLE-STRUCTURED-LOCATION;VALUE=URI;X-ADDRESS=Rue des Coteaux\, QUINT FON
 SEGRIVES\, 31130\, France;X-APPLE-RADIUS=100;X-TITLE=Salle de la Marne:geo
 :43.585815,1.535164
END:VEVENT
BEGIN:VTIMEZONE
TZID:Europe/Paris
X-LIC-LOCATION:Europe/Paris
BEGIN:STANDARD
DTSTART:20181028T020000
TZOFFSETFROM:+0200
TZOFFSETTO:+0100
TZNAME:CET
END:STANDARD
END:VTIMEZONE
END:VCALENDAR