BEGIN:VCALENDAR
VERSION:2.0
PRODID:-//wp-events-plugin.com//7.2.2.1//EN
TZID:Europe/Paris
X-WR-TIMEZONE:Europe/Paris
BEGIN:VEVENT
UID:181@montagnerando-fonsegrives.com
DTSTART;TZID=Europe/Paris;VALUE=DATE:20191231
DTEND;TZID=Europe/Paris;VALUE=DATE:20200101
DTSTAMP:20191112T204715Z
URL:https://montagnerando-fonsegrives.com/events/mardi-31-decembre-2019-re
 veillon-de-la-section-montagne-salle-de-la-marne/
SUMMARY:Mardi 31 Décembre 2019 = RÉVEILLON de la Section Montagne (Salle 
 de la Marne)
DESCRIPTION:Comme tous les ans\, les sections Montagne-Rando et Culture-en-
 Chemin vous proposent une excellente manière de fêter la fin de l'année
  et le début de l'année suivante.\nAmbiance joyeuse\, plaisir de se retr
 ouver et d'oublier les soucis…\nPour télécharger le bulletin d'inscrip
 tion\, cliquez ici\n[robo-gallery id="14441"]
CATEGORIES:Festivités
END:VEVENT
BEGIN:VTIMEZONE
TZID:Europe/Paris
X-LIC-LOCATION:Europe/Paris
BEGIN:STANDARD
DTSTART:20191027T020000
TZOFFSETFROM:+0200
TZOFFSETTO:+0100
TZNAME:CET
END:STANDARD
END:VTIMEZONE
END:VCALENDAR