BEGIN:VCALENDAR
VERSION:2.0
PRODID:-//wp-events-plugin.com//7.2.2.1//EN
TZID:Europe/Paris
X-WR-TIMEZONE:Europe/Paris
BEGIN:VEVENT
UID:382@montagnerando-fonsegrives.com
DTSTART;TZID=Europe/Paris;VALUE=DATE:20250518
DTEND;TZID=Europe/Paris;VALUE=DATE:20250519
DTSTAMP:20250515T113024Z
URL:https://montagnerando-fonsegrives.com/events/pic-de-la-journalade-depu
 is-le-col-de-port-2/
SUMMARY:Pic de la Journalade depuis le Col de Port
DESCRIPTION:Pic  de la Journalade depuis le Col de Port\nCarte IGN 2047 ET
 \n\nTélécharger le topo - les traces GPX des Marcheurs et GPX des Randon
 neurs \n\n\n\n\n\n\n\n\n\n\n\n\n\n\n\n\nDépart :\n\n\n\n\n\nParking du C
 ol de Port.\n\n\n\n\n\n\n\n\n\n\n\n\n\n\nDistance : 117 km – 1h25 (voitu
 re)\, 1h45 (car)\nCoordonnées GPS : LAT/LON 42.898921° N / 1.452752° E
  – Alt : 1250 m\n\n\n\n\n\n\n\n\n\nDEPART EN CO-VOITURAGE A 7H DEPUIS LE
  PARKING COMPLEXE PATRICK PEPI\n\n\n\n\n\n\n\n\n\n\n\n\n\n\n\n\n\n\n\nPARC
 OURS MARCHEURS\n\n 	Marcheurs : Pic d’Estibat (1663 m) – col de l’Es
 tagnou (1592 m)\nDistance : 7\,5 km\, dénivelé : 467 m\, durée : 3h00 (
 3h45 avec pauses/marges)\nIndice de difficulté (IBP) : 61\n 	Option : sec
 ond sommet du Pic de la Journalade (1888 m)\nDistance : 9\,7 km\, dénivel
 é : 761 m\, durée : 5h05 (6h05 avec pauses/marges)\nIndice de difficult
 é (IBP) : 87\n\n[sgpx gpx="/wp-content/uploads/gpx/09-Col_de_Port-M-Pic_d
 e_la_Journalade.gpx"]\n\n\n\nPARCOURS RANDONNEURS\n\n 	Randonneurs : Pic d
 e la Journalade (1945 m)\nDistance : 10\,4 km\, dénivelé : 875 m\, duré
 e : 5h10 (5h55 avec pauses/marge)\nIndice de difficulté (IBP) : 93\n\n\n\
 n\n\n\n\n\n\n\n\n\n\n\n\n\n\n\n\n\n\n\n\n\n\n\n\n\n\n\n[sgpx gpx="/wp-cont
 ent/uploads/gpx/09-Col_de_Port-R-Pic_de_la_Journalade.gpx"]\n\n\n\n\n\n\n\
 n\n\n\n\n\n\n\n\n\nDescriptif :\nBelle randonnée vers le Pic de la Journa
 lade d’où vous pourrez admirer les hauts sommets de la chaine des Pyré
 nées et\, notamment\, le Mont Vallier et le Pic des Trois Seigneurs. Asce
 nsions de pentes herbeuses et cheminement de crête constituent l'essentie
 l de l'itinéraire jusqu’au col de l’Estagnou\, premier objectif des M
 archeurs\, avant d’attaquer l’ascension du second sommet de la Journal
 ade\, second objectif des Marcheurs (pour les plus vaillants).\nLes Randon
 neurs poursuivront jusqu’au Pic de la Journalade. Le court trajet entre 
 le second sommet et le Pic est technique\, avec des passages délicats et 
 aériens\, à ne faire que par beau temps et à réserver aux personnes ne
  souffrant pas du vertige\n\n\n\n\n\n\n\n\n\n\n\n\n\n\n\n\n\n\nMerci de co
 nfirmer votre inscription par email avant Vendredi 16 Mai 19h30\n\n\n\n\nM
 étéo : 08 99 71 02 09 - Secours : 112\n\n\n\nMETEO PIC d'ESTIBAT : 42.8
 88°N 1.446°E\n\nmeteoblue\n&nbsp\;
ATTACH;FMTTYPE=image/jpeg:https://montagnerando-fonsegrives.com/wp-content
 /uploads/2024/07/09-Col_de_Port-R-Pic_de_la_Journalade-Photo.png
CATEGORIES:Rando
END:VEVENT
BEGIN:VTIMEZONE
TZID:Europe/Paris
X-LIC-LOCATION:Europe/Paris
BEGIN:DAYLIGHT
DTSTART:20250330T030000
TZOFFSETFROM:+0100
TZOFFSETTO:+0200
TZNAME:CEST
END:DAYLIGHT
END:VTIMEZONE
END:VCALENDAR