BEGIN:VCALENDAR
VERSION:2.0
PRODID:-//wp-events-plugin.com//7.2.2.1//EN
TZID:Europe/Paris
X-WR-TIMEZONE:Europe/Paris
BEGIN:VEVENT
UID:166@montagnerando-fonsegrives.com
DTSTART;TZID=Europe/Paris;VALUE=DATE:20190406
DTEND;TZID=Europe/Paris;VALUE=DATE:20190407
DTSTAMP:20190401T185054Z
URL:https://montagnerando-fonsegrives.com/events/rando-oenologie-samedi-6-
 avril-2019/
SUMMARY:Rando Œnologie = Samedi 6 avril 2019
DESCRIPTION:Une compensation après le report de la sortie Rando-Oeno !\nLa
  section œnologie organise son voyage annuel : cette année la Cité du V
 in à Bordeaux le 25 mai 2019.\nLe nombre de participants est limité à 4
 4 personnes. Les inscriptions seront prises par ordre d’arrivée\, avec 
 une priorité aux membres de la section œnologie.\nVous trouverez en piè
 ce jointe ici les informations relatives à cette sortie ainsi que les mod
 alités d'inscription.
CATEGORIES:Rando
END:VEVENT
BEGIN:VTIMEZONE
TZID:Europe/Paris
X-LIC-LOCATION:Europe/Paris
BEGIN:DAYLIGHT
DTSTART:20190331T030000
TZOFFSETFROM:+0100
TZOFFSETTO:+0200
TZNAME:CEST
END:DAYLIGHT
END:VTIMEZONE
END:VCALENDAR