BEGIN:VCALENDAR
VERSION:2.0
PRODID:-//wp-events-plugin.com//7.2.2.1//EN
TZID:Europe/Paris
X-WR-TIMEZONE:Europe/Paris
BEGIN:VEVENT
UID:130@montagnerando-fonsegrives.com
DTSTART;TZID=Europe/Paris:20180215T210000
DTEND;TZID=Europe/Paris:20180215T233000
DTSTAMP:20180213T155619Z
URL:https://montagnerando-fonsegrives.com/events/reunion-bureau/
SUMMARY:Réunion Bureau
DESCRIPTION:Je vous confirme notre réunion bureau du mercredi 14 Février 
 2018 à 21H00.\nSalle QFA de la Marne. Merci à Yvette d'apporter ses clé
 s.\nExcusés: Michel DUBOURG\nJe vous propose l'ordre du jour suivant:\n- 
 Rex de l'Assemblée Générale\n0 Echanger sur les questions posées lors 
 de l'AG - ( Sortie rando aprés le Forum- Certificat médical........ )\n-
  Préparation de la Rando du 18 Février 2018\n0 Etat des Inscriptions\n0 
 Météo\n0 Topos\n0 Transport\n0 Matériel\n0 Destination envisagée\n- Pr
 ojets de la Section pour l'année 2018\n- Site\n0 Actualiser le Site suite
  à l'AG du 09 Février:\n0 Constitution du bureau avec ses nouveaux membr
 es\n- Sujets divers
END:VEVENT
BEGIN:VTIMEZONE
TZID:Europe/Paris
X-LIC-LOCATION:Europe/Paris
BEGIN:STANDARD
DTSTART:20171029T020000
TZOFFSETFROM:+0200
TZOFFSETTO:+0100
TZNAME:CET
END:STANDARD
END:VTIMEZONE
END:VCALENDAR