BEGIN:VCALENDAR
VERSION:2.0
PRODID:-//wp-events-plugin.com//7.2.2.1//EN
TZID:Europe/Paris
X-WR-TIMEZONE:Europe/Paris
BEGIN:VEVENT
UID:159@montagnerando-fonsegrives.com
DTSTART;TZID=Europe/Paris;VALUE=DATE:20181124
DTEND;TZID=Europe/Paris;VALUE=DATE:20181125
DTSTAMP:20181119T160513Z
URL:https://montagnerando-fonsegrives.com/events/samedi-10-novembre-2018-c
 onference-montagne/
SUMMARY:Samedi 24 Novembre 2018 = CONFÉRENCE MONTAGNE (Complexe P.-Pépi /
  Salle de Représentation)
DESCRIPTION:Réservez dès à présent votre soirée du samedi 24 novembre 
 pour la conférence montagne. Merci de communiquer et d’inviter largemen
 t autours de vous. \nC’est gratuit et ouvert à tous. Pour télécharger
  le document\, cliquez ici\nChers adhérents\, chers adhérentes\, chers 
 amis\,\nJe vous rappelle que le samedi 24 Novembre à 20H30 salle des repr
 ésentations du complexe Patrick – Pépi à Quint-Fonsegrives se tiendre
  notre 4ème conférence montagne. Notre section accueillera cette année 
 Laurent LAFFORGUE qui viendra présenter son film  « Zirgozodara  Aven
 ture au Pamir » et dédicacer ses livres. Au cours de cette soirée vous
  aurez également le plaisir de découvrir un diaporama de photos de nos s
 éjours à Andorre et à Aucun ainsi qu’un reportage sur un des plus bea
 ux treks des Pyrénées.\nCette soirée est gratuite et ouverte à tous. U
 ne buvette sera à disposition à l’entracte.\nJe compte sur votre prés
 ence pour cette soirée.\nDans l’attente de vous voir\,\nJacques VIGUIE\
 nResponsable de la Section Montagne.
CATEGORIES:Festivités
END:VEVENT
BEGIN:VTIMEZONE
TZID:Europe/Paris
X-LIC-LOCATION:Europe/Paris
BEGIN:STANDARD
DTSTART:20181028T020000
TZOFFSETFROM:+0200
TZOFFSETTO:+0100
TZNAME:CET
END:STANDARD
END:VTIMEZONE
END:VCALENDAR