BEGIN:VCALENDAR
VERSION:2.0
PRODID:-//wp-events-plugin.com//7.2.2.1//EN
TZID:Europe/Paris
X-WR-TIMEZONE:Europe/Paris
BEGIN:VEVENT
UID:79@montagnerando-fonsegrives.com
DTSTART;TZID=Europe/Paris;VALUE=DATE:20160910
DTEND;TZID=Europe/Paris;VALUE=DATE:20160911
DTSTAMP:20160612T155028Z
URL:https://montagnerando-fonsegrives.com/events/samedi-10-septembre-forum
 -des-associations/
SUMMARY:Samedi 10 Septembre = FORUM des ASSOCIATIONS
DESCRIPTION:Au complexe Patrick-Pépi (Salle Polyvalente de Quint-Fonsegriv
 es)\, à partir de 14 h.\, vous pourrez retrouver des adhérents\, des mem
 bres du bureau\, évoquer de bons souvenirs\, raconter vos exploits estiva
 ux… et renouveler votre adhésion.
CATEGORIES:Festivités
LOCATION:\, \, 
X-APPLE-STRUCTURED-LOCATION;VALUE=URI;X-ADDRESS=\, ;X-APPLE-RADIUS=100;X-TI
 TLE=:geo:0,0
END:VEVENT
BEGIN:VTIMEZONE
TZID:Europe/Paris
X-LIC-LOCATION:Europe/Paris
BEGIN:DAYLIGHT
DTSTART:20160327T030000
TZOFFSETFROM:+0100
TZOFFSETTO:+0200
TZNAME:CEST
END:DAYLIGHT
END:VTIMEZONE
END:VCALENDAR