BEGIN:VCALENDAR
VERSION:2.0
PRODID:-//wp-events-plugin.com//7.2.2.1//EN
TZID:Europe/Paris
X-WR-TIMEZONE:Europe/Paris
BEGIN:VEVENT
UID:151@montagnerando-fonsegrives.com
DTSTART;TZID=Europe/Paris;VALUE=DATE:20180908
DTEND;TZID=Europe/Paris;VALUE=DATE:20180909
DTSTAMP:20180603T154937Z
URL:https://montagnerando-fonsegrives.com/events/samedi-15-septembre-2018-
 forum-des-associations-complexe-p-pepi-de-14-h-a-17-h/
SUMMARY:Samedi 8 Septembre 2018 = FORUM des ASSOCIATIONS (Complexe P.-Pépi
  de 14 h à 17 h)
DESCRIPTION:FORUM des ASSOCIATIONS (Complexe P.-Pépi de 14 h à 17 h)\nVou
 s pourrez y rencontrer les membres du Bureau et nos Animateurs d’Activit
 és Sportives\, évoquer de bons souvenirs\, obtenir toutes les informatio
 ns nécessaires\, renouveler votre adhésion\, (si vous ne l’avez déjà
  fait !)
CATEGORIES:Réunion
END:VEVENT
BEGIN:VTIMEZONE
TZID:Europe/Paris
X-LIC-LOCATION:Europe/Paris
BEGIN:DAYLIGHT
DTSTART:20180325T030000
TZOFFSETFROM:+0100
TZOFFSETTO:+0200
TZNAME:CEST
END:DAYLIGHT
END:VTIMEZONE
END:VCALENDAR