BEGIN:VCALENDAR
VERSION:2.0
PRODID:-//wp-events-plugin.com//7.2.2.1//EN
TZID:Europe/Paris
X-WR-TIMEZONE:Europe/Paris
BEGIN:VEVENT
UID:179@montagnerando-fonsegrives.com
DTSTART;TZID=Europe/Paris:20191116T203000
DTEND;TZID=Europe/Paris:20191116T230000
DTSTAMP:20191026T164126Z
URL:https://montagnerando-fonsegrives.com/events/samedi-16-novembre-2019-c
 onference-montagne/
SUMMARY:Samedi 16 Novembre 2019 = CONFÉRENCE MONTAGNE
DESCRIPTION:Une conférence de BERNARD SEILLE .\n\n\n\nProjection de 5 cou
 rts-métrages :\nLes gens d’en-haut\nAnna\nFaja\, le canyon d’Ordesa\
 nLes magiciens de l’extrême\nLa dernière saison\nSalle de Représent
 ation du Complexe Patrick PEPI : Entrée 3 €\n\n[robo-gallery id="14257"
 ]\n\n\n
CATEGORIES:Conférences Montagne
END:VEVENT
BEGIN:VTIMEZONE
TZID:Europe/Paris
X-LIC-LOCATION:Europe/Paris
BEGIN:STANDARD
DTSTART:20191027T020000
TZOFFSETFROM:+0200
TZOFFSETTO:+0100
TZNAME:CET
END:STANDARD
END:VTIMEZONE
END:VCALENDAR