BEGIN:VCALENDAR
VERSION:2.0
PRODID:-//wp-events-plugin.com//7.2.2.1//EN
TZID:Europe/Paris
X-WR-TIMEZONE:Europe/Paris
BEGIN:VEVENT
UID:105@montagnerando-fonsegrives.com
DTSTART;TZID=Europe/Paris;VALUE=DATE:20171022
DTEND;TZID=Europe/Paris;VALUE=DATE:20171023
DTSTAMP:20171120T183212Z
URL:https://montagnerando-fonsegrives.com/events/samedi-21-octobre-rando-o
 eno-conjointe-sections-montagne-rando-et-oenologie/
SUMMARY:Dimanche 22 Octobre = Rando-Oeno conjointe Sections Montagne Rando 
 et Oenologie
DESCRIPTION:CAVES (Aude) - Cartes IGN : 2547 OT\n Présentation de la rando
 nnée : \nPoint de départ : Parking de la mairie\, à droite en rentrant
  dans le village : de Toulouse direction narbonne\, puis Perpignan Sortie 
 Leucate. Après le péage\, juste avant le grand rond-point\, prendre dire
 ction Perpignan (Nationale 9) et au 1er carrefour\, tourner à droite en d
 irection de Caves. Se trouve à 175kms de Toulouse\, 2H 00 de route. Coord
 onnées GPS : LAT/LNG  42\,932420 /2\,977290 Le parcours :\n• Aller/ret
 our de 13\, 2 kms\, dénivelé : 240m Option visite du village de Feuilla 
 : 15kms\, dénivelé : 240 m\nRandonnée familiale sans aucune difficulté
 . Balisage jaune (PR : « sentier de la garrigue ») en bordure de trottoi
 r dans le village de Caves jusqu’à la traversée de l’autoroute puis\
 , partie rouge et jaune (GPR). Ne pas perdre son balisage : il existe beau
 coup de pistes et sentiers qui se croisent. Revêtement des chemins : cail
 loux ou sable. La parcours traverse un paysage méditerranéen typique de 
 garrigues\, petits bois\, arbres de petite taille\, vigne\, friches. Vues 
 variées\, agréables\, souvent dégagées sur les étangs et la mer (au r
 etour). Dans le village de CAVES\, quelques jolies maisons de pierre\, rep
 roduction d’une pierre miliaire. Au cours du parcours rencontre d’une 
 grande capitelle (à gauche du chemin mais pas signalée)\, une bergerie e
 n ruine\, une centrale photovoltaique et ruine du moulin de Calé assez re
 marquable. En option\, visiter le petit village de FEUILLA\, assez pittore
 sque avec les vestiges de la tour d’Hortoux. Le jardin botanique de la F
 oncaude offre plus de 2000 espèces sur 7 ha.\nMétéo : 08 99 71 02 11. 
   Mairie : 04 68 45 71 71. (CAVES). Secours :  112.\n\n\n\n[sgpx gpx="/w
 p-content/uploads/gpx/Caves (aude).gpx"]\nPour télécharger le topo : [dd
 ownload id="7789" text="cliquez ici" style="link"]\n\n\n\nRandonnée facil
 e et dégustation\nRANDO-OENO du Dimanche 22 Octobre\nLes Sections Œnolog
 ie et Montagne-Rando organisent une randonnée combinant un parcours péde
 stre dans un paysage de garrigue (région deFitou)\, une dégustation de v
 ins pendant le pique-nique et deux visites de domaines .\nLe trajet s’ef
 fectuera exclusivement en car (pas de voitures personnelles).\nNombre de p
 laces limité aux 60 premiers inscrits.\nLe montant de cette sortie est de
  20 euros par personne\ncomprenant le trajet en car et la dégustation pen
 dant le pique- nique.\nInscrivez-vous AVANT LE 10 OCTOBRE en adressant vot
 re chèque\n[à l’ordre de « Foyer Rural de Quint-Fonsegrives Section 
 Montagne »] à Michèle Bottan 48 Rue Péchestier 31130 Quint-Fonsegrive
 s\nProgramme :\n1° départ (comme d’habitude) = Complexe P.Pépi à 7 h
 . (soyez présent dès 6 h.45)\n2° trajet en car jusqu’au village de Ca
 ves au nom bien choisi !\n3° matinée = randonnée sur terrain varié :un
  peu de petite route\, des sentiers\, des pistes avec cailloux ou sable / 
 distance = 8 km / dénivelé = 240 m.\n4° arrivée sur le lieu de pique-n
 ique (à quelques km du village de Treilles !) :\n.. initiation œnologiqu
 e et présentation des techniques de dégustation de vins\n.. chacun appor
 te son repas personnel (plutôt de la charcuterie en entrée\, plat carné
 \, fromage pour mieux apprécier les différents vins présentés\, desser
 ts libres)\n5° après-midi = pas de randonnée mais retour en car et visi
 te de deux caves à l’ambiance sympathique avec dégustation gratuite et
  possibilité d’achat :\n.. Château des Fenals à Fitou (3 km de Caves)
 \n.. Château de l’Étang des Colombes à Cruscades (près de Lézignan)
 \n6° retour à Quint-Fonsegrives\nRemercions la section Œnologie : elle 
 offre les vins qui seront dégustés au cours du repas (le 1er étant l’
 apéritif) et\, amis randonneurs\, offrez en échange votre aide et votre 
 bonne humeur conviviale et légendaire !
CATEGORIES:Rando
END:VEVENT
BEGIN:VTIMEZONE
TZID:Europe/Paris
X-LIC-LOCATION:Europe/Paris
BEGIN:DAYLIGHT
DTSTART:20170326T030000
TZOFFSETFROM:+0100
TZOFFSETTO:+0200
TZNAME:CEST
END:DAYLIGHT
END:VTIMEZONE
END:VCALENDAR