BEGIN:VCALENDAR
VERSION:2.0
PRODID:-//wp-events-plugin.com//7.2.2.1//EN
TZID:Europe/Paris
X-WR-TIMEZONE:Europe/Paris
BEGIN:VEVENT
UID:164@montagnerando-fonsegrives.com
DTSTART;TZID=Europe/Paris:20180623T090000
DTEND;TZID=Europe/Paris:20180623T120000
DTSTAMP:20180613T204059Z
URL:https://montagnerando-fonsegrives.com/events/samedi-23-juin-decouverte
 -marche-nordique/
SUMMARY:SAMEDI 23 Juin - Découverte Marche Nordique
DESCRIPTION:Rendez vous à 9 h au parking du boulodrome pour les personnes 
 intéressées. Venez en tenue de sport\, on vous prêtera des bâtons.
CATEGORIES:Marche Nordique
END:VEVENT
BEGIN:VTIMEZONE
TZID:Europe/Paris
X-LIC-LOCATION:Europe/Paris
BEGIN:DAYLIGHT
DTSTART:20180325T030000
TZOFFSETFROM:+0100
TZOFFSETTO:+0200
TZNAME:CEST
END:DAYLIGHT
END:VTIMEZONE
END:VCALENDAR