BEGIN:VCALENDAR
VERSION:2.0
PRODID:-//wp-events-plugin.com//7.2.2.1//EN
TZID:Europe/Paris
X-WR-TIMEZONE:Europe/Paris
BEGIN:VEVENT
UID:180@montagnerando-fonsegrives.com
DTSTART;TZID=Europe/Paris;VALUE=DATE:20191207
DTEND;TZID=Europe/Paris;VALUE=DATE:20191208
DTSTAMP:20191128T182712Z
URL:https://montagnerando-fonsegrives.com/events/samedi-7-decembre-2019-ma
 tin-telethon/
SUMMARY:Samedi 7 Décembre 2019 matin = Téléthon
DESCRIPTION:La Section Montagne participe au Téléthon et organise un chal
 lenge (course ou marche) :\ndépasser le résultat de 2018 (1160 km / 48 p
 articipants) \; on peut faire mieux !\n\nLe Bureau de la Section Montagne 
 vous transmet le flyer distribué pour le Téléthon (samedi 7 décembre) 
 afin de vous faire participer au maximum.\nLa Section Montagne organise le
  parcours pédestre avec le concours de la Section Courir.\nMarcheurs\, ra
 ndonneurs\, et adeptes de la marche nordique\, relevez le défi de l’ann
 ée dernière (1160 km) !\nOn vous espère nombreux et pleins d’allant\,
  comme d’habitude !\nCordialement\nPour le bureau\, le secrétaire de la
  section\nPour télécharger le flyer\, cliquez ici\n\n[robo-gallery id="1
 4518"]
CATEGORIES:Festivités
END:VEVENT
BEGIN:VTIMEZONE
TZID:Europe/Paris
X-LIC-LOCATION:Europe/Paris
BEGIN:STANDARD
DTSTART:20191027T020000
TZOFFSETFROM:+0200
TZOFFSETTO:+0100
TZNAME:CET
END:STANDARD
END:VTIMEZONE
END:VCALENDAR