BEGIN:VCALENDAR
VERSION:2.0
PRODID:-//wp-events-plugin.com//7.2.2.1//EN
TZID:Europe/Paris
X-WR-TIMEZONE:Europe/Paris
BEGIN:VEVENT
UID:99@montagnerando-fonsegrives.com
DTSTART;TZID=Europe/Paris:20170909T140000
DTEND;TZID=Europe/Paris:20170909T190000
DTSTAMP:20170902T123152Z
URL:https://montagnerando-fonsegrives.com/events/samedi-9-septembre-forum-
 des-associations/
SUMMARY:Samedi 9 septembre = Forum des Associations
DESCRIPTION:Complexe Patrick Pépi Quint-Fonsegrives à 14H.\nA partir de 1
 4 h\, vous pourrez rencontrer les membres du Bureau et nos Animateurs d’
 Activités sportives\, obtenir toute information sur notre Section… et a
 dhérer.\nNos Adhérents pourront s’y retrouver\, échanger avec les bé
 névoles\, évoquer de bons souvenirs\, raconter leurs exploits estivaux
 … et renouveler leur adhésion.\n\n&nbsp\;\n\nPensez à fournir à l’a
 ppui de votre prochaine inscription un Certificat médical individuel d’
 Absence de Contre-Indication (CACI) à la pratique des Activités sportive
 s que vous aurez choisies dans votre Fiche individuelle d’adhésion (Ran
 donnée en montagne (pédestre et à raquettes) et/ou marche nordique ». 
 La fourniture préalable du CACI est obligatoire pour participer à nos Ac
 tivités sportives.
CATEGORIES:Rando
END:VEVENT
BEGIN:VTIMEZONE
TZID:Europe/Paris
X-LIC-LOCATION:Europe/Paris
BEGIN:DAYLIGHT
DTSTART:20170326T030000
TZOFFSETFROM:+0100
TZOFFSETTO:+0200
TZNAME:CEST
END:DAYLIGHT
END:VTIMEZONE
END:VCALENDAR