BEGIN:VCALENDAR
VERSION:2.0
PRODID:-//wp-events-plugin.com//7.2.2.1//EN
TZID:Europe/Paris
X-WR-TIMEZONE:Europe/Paris
BEGIN:VEVENT
UID:155@montagnerando-fonsegrives.com
DTSTART;TZID=Europe/Paris;VALUE=DATE:20181019
DTEND;TZID=Europe/Paris;VALUE=DATE:20181020
DTSTAMP:20180917T161256Z
URL:https://montagnerando-fonsegrives.com/events/vendredi-12-octobre-2018-
 repas-dautomne/
SUMMARY:Vendredi 19 Octobre 2018 = REPAS d’AUTOMNE
DESCRIPTION:Vendredi 19 Octobre = REPAS d’AUTOMNE\n\nPour télécharger l
 e bulletin d'inscription\, cliquez ici
CATEGORIES:Festivités
LOCATION:QF - Salle de la Marne\, Rue des Coteaux\, QUINT FONSEGRIVES\, 311
 30\, France
GEO:43.585814;1.535164
X-APPLE-STRUCTURED-LOCATION;VALUE=URI;X-ADDRESS=Rue des Coteaux\, QUINT FON
 SEGRIVES\, 31130\, France;X-APPLE-RADIUS=100;X-TITLE=QF - Salle de la Marn
 e:geo:43.585814,1.535164
END:VEVENT
BEGIN:VTIMEZONE
TZID:Europe/Paris
X-LIC-LOCATION:Europe/Paris
BEGIN:DAYLIGHT
DTSTART:20180325T030000
TZOFFSETFROM:+0100
TZOFFSETTO:+0200
TZNAME:CEST
END:DAYLIGHT
END:VTIMEZONE
END:VCALENDAR