BEGIN:VCALENDAR
VERSION:2.0
PRODID:-//wp-events-plugin.com//7.2.2.1//EN
TZID:Europe/Paris
X-WR-TIMEZONE:Europe/Paris
BEGIN:VEVENT
UID:88@montagnerando-fonsegrives.com
DTSTART;TZID=Europe/Paris;VALUE=DATE:20170217
DTEND;TZID=Europe/Paris;VALUE=DATE:20170218
DTSTAMP:20170224T213116Z
URL:https://montagnerando-fonsegrives.com/events/vendredi-17-fevrier-assem
 blee-generale-de-la-section-montagne-rando/
SUMMARY:Vendredi 17 février = Assemblée Générale de la Section Montagne
  Rando
DESCRIPTION:Assemblée Générale 2016 de notre Section Montagne Rando\nNo
 tre AG relative à l’exercice 2016 s’est tenue le 17 février 2017 à 
 20h30 à la Salle de la Marne à Quint–Fonsegrives.\nLes Membres du Bure
 au tiennent à remercier les 56 Adhérents qui y ont participé activement
  et sympathiquement.\nNous remercions aussi Jean-Pierre Gasc\, Adjoint au 
 Maire en charge des Associations\, Hélène Coulomb\, Présidente du Foyer
  Rural\, et Corinne Allègre\, Trésorière du Foyer Rural\, d’avoir acc
 epté de nous accompagner lors de notre AG.\nLe Rapport Moral et d’Activ
 ité et le Rapport Financier ont été approuvés par l’Assemblée à l
 ’unanimité.\nLes 9 Membres du Bureau ont été reconduits dans leurs fo
 nctions à l’unanimité de l’Assemblée\, et le Bureau a maintenu le R
 esponsable de la Section Montagne Rando en fonction.\nLes Adhérents pourr
 ont trouver dans l’Espace «Adhérents » du Site\, les documents suppo
 rts de présentation de l’AG 2016:\n\n\n 	Présentation\,\n 	Rapport Mo
 ral et d’Activité\,\n 	Rapport Financier.\n\nLes documents sont dans la
  rubrique "Téléchargement".\nUn Compte-Rendu complet sera diffusé très
  prochainement.\nSalle de la Marne Quint-Fonsegrives à 20 h 30 – Pot de
  l’amitié avec les participants en fin d’AG.
CATEGORIES:Réunion
LOCATION:\, \, 
X-APPLE-STRUCTURED-LOCATION;VALUE=URI;X-ADDRESS=\, ;X-APPLE-RADIUS=100;X-TI
 TLE=:geo:0,0
END:VEVENT
BEGIN:VTIMEZONE
TZID:Europe/Paris
X-LIC-LOCATION:Europe/Paris
BEGIN:STANDARD
DTSTART:20161030T020000
TZOFFSETFROM:+0200
TZOFFSETTO:+0100
TZNAME:CET
END:STANDARD
END:VTIMEZONE
END:VCALENDAR