BEGIN:VCALENDAR
VERSION:2.0
PRODID:-//wp-events-plugin.com//7.2.2.1//EN
TZID:Europe/Paris
X-WR-TIMEZONE:Europe/Paris
BEGIN:VEVENT
UID:108@montagnerando-fonsegrives.com
DTSTART;TZID=Europe/Paris;VALUE=DATE:20171118
DTEND;TZID=Europe/Paris;VALUE=DATE:20171119
DTSTAMP:20171114T175333Z
URL:https://montagnerando-fonsegrives.com/events/vendredi-17-novembre-3eme
 -conference-montagne-rando-serge-valentin/
SUMMARY:Samedi 18 Novembre = 3ème Conférence Montagne Rando = Serge Valen
 tin
DESCRIPTION:\nComme annoncé dans le Programme d'Activités 2017-2018\, vou
 s pouvez réserver votre soirée pour la Conférence sur la Montagne.\nSam
 edi 18 novembre à 20 h.30 Salle de Représentation du Complexe P.-Pépi.\
 nBeau programme pour les amateurs de montagne et de magnifiques paysages\,
  ambiance conviviale et sympathique...\n\n
END:VEVENT
BEGIN:VTIMEZONE
TZID:Europe/Paris
X-LIC-LOCATION:Europe/Paris
BEGIN:STANDARD
DTSTART:20171029T020000
TZOFFSETFROM:+0200
TZOFFSETTO:+0100
TZNAME:CET
END:STANDARD
END:VTIMEZONE
END:VCALENDAR