BEGIN:VCALENDAR
VERSION:2.0
PRODID:-//wp-events-plugin.com//7.2.2.1//EN
TZID:Europe/Paris
X-WR-TIMEZONE:Europe/Paris
BEGIN:VEVENT
UID:173@montagnerando-fonsegrives.com
DTSTART;TZID=Europe/Paris:20191018T193000
DTEND;TZID=Europe/Paris:20191018T233000
DTSTAMP:20190928T123845Z
URL:https://montagnerando-fonsegrives.com/events/vendredi-18-octobre-repas
 -dautomne-salle-de-la-marne/
SUMMARY:Vendredi 18 Octobre 2019 = REPAS d’AUTOMNE (Salle de la Marne)
DESCRIPTION:le traditionnel « Repas d’Automne » : vous trouverez ici l
 ’Information détaillée.
CATEGORIES:Rando
END:VEVENT
BEGIN:VTIMEZONE
TZID:Europe/Paris
X-LIC-LOCATION:Europe/Paris
BEGIN:DAYLIGHT
DTSTART:20190331T030000
TZOFFSETFROM:+0100
TZOFFSETTO:+0200
TZNAME:CEST
END:DAYLIGHT
END:VTIMEZONE
END:VCALENDAR